BEGIN:VCALENDAR
VERSION:2.0
PRODID:-//City of Loxley - ECPv6.15.20//NONSGML v1.0//EN
CALSCALE:GREGORIAN
METHOD:PUBLISH
X-WR-CALNAME:City of Loxley
X-ORIGINAL-URL:https://www.cityofloxley.com
X-WR-CALDESC:Events for City of Loxley
REFRESH-INTERVAL;VALUE=DURATION:PT1H
X-Robots-Tag:noindex
X-PUBLISHED-TTL:PT1H
BEGIN:VTIMEZONE
TZID:America/Chicago
BEGIN:DAYLIGHT
TZOFFSETFROM:-0600
TZOFFSETTO:-0500
TZNAME:CDT
DTSTART:20240310T080000
END:DAYLIGHT
BEGIN:STANDARD
TZOFFSETFROM:-0500
TZOFFSETTO:-0600
TZNAME:CST
DTSTART:20241103T070000
END:STANDARD
BEGIN:DAYLIGHT
TZOFFSETFROM:-0600
TZOFFSETTO:-0500
TZNAME:CDT
DTSTART:20250309T080000
END:DAYLIGHT
BEGIN:STANDARD
TZOFFSETFROM:-0500
TZOFFSETTO:-0600
TZNAME:CST
DTSTART:20251102T070000
END:STANDARD
BEGIN:DAYLIGHT
TZOFFSETFROM:-0600
TZOFFSETTO:-0500
TZNAME:CDT
DTSTART:20260308T080000
END:DAYLIGHT
BEGIN:STANDARD
TZOFFSETFROM:-0500
TZOFFSETTO:-0600
TZNAME:CST
DTSTART:20261101T070000
END:STANDARD
END:VTIMEZONE
BEGIN:VEVENT
DTSTART;TZID=America/Chicago:20251120T090000
DTEND;TZID=America/Chicago:20251120T100000
DTSTAMP:20260422T143249
CREATED:20251023T071139Z
LAST-MODIFIED:20260318T215728Z
UID:10002190-1763629200-1763632800@www.cityofloxley.com
SUMMARY:YMCA
DESCRIPTION:
URL:https://www.cityofloxley.com/event/ymca/2025-11-20/
CATEGORIES:Seniors
END:VEVENT
BEGIN:VEVENT
DTSTART;TZID=America/Chicago:20251119T120000
DTEND;TZID=America/Chicago:20251119T120000
DTSTAMP:20260422T143249
CREATED:20251023T071816Z
LAST-MODIFIED:20251023T073132Z
UID:10002193-1763553600-1763553600@www.cityofloxley.com
SUMMARY:Friendsgiving
DESCRIPTION:Our potluck lunch this month will be Friendsgiving Thanksgiving celebration on Wednesday\, November 19th at noon. The City will be providing the meats (turkey and ham). Please bring a Thanksgiving side\, dish\, or dessert to share.
URL:https://www.cityofloxley.com/event/friendsgiving/
LOCATION:Loxley Civic Center\, 4198 Municipal Park Dr\,\, Loxley\, AL\, 36551\, United States
CATEGORIES:Seniors
END:VEVENT
BEGIN:VEVENT
DTSTART;TZID=America/Chicago:20251118T080000
DTEND;TZID=America/Chicago:20251118T090000
DTSTAMP:20260422T143249
CREATED:20251023T072851Z
LAST-MODIFIED:20260112T225215Z
UID:10002183-1763452800-1763456400@www.cityofloxley.com
SUMMARY:Breakfast
DESCRIPTION:Our buffet-style breakfast is served on Tuesdays at 8:00 AM. Our friends from the DAV will be joining us the first Tuesday of each month.
URL:https://www.cityofloxley.com/event/breakfast-2/2025-11-18/
LOCATION:Loxley Civic Center\, 4198 Municipal Park Dr\,\, Loxley\, AL\, 36551\, United States
CATEGORIES:Seniors
END:VEVENT
BEGIN:VEVENT
DTSTART;VALUE=DATE:20251114
DTEND;VALUE=DATE:20251115
DTSTAMP:20260422T143249
CREATED:20251023T072033Z
LAST-MODIFIED:20251023T072033Z
UID:10002195-1763078400-1763164799@www.cityofloxley.com
SUMMARY:Billy J. Middleton Soccer Complex Groundbreaking
DESCRIPTION:
URL:https://www.cityofloxley.com/event/billy-j-middleton-soccer-complex-groundbreaking/
CATEGORIES:Seniors
END:VEVENT
BEGIN:VEVENT
DTSTART;TZID=America/Chicago:20251113T120000
DTEND;TZID=America/Chicago:20251113T150000
DTSTAMP:20260422T143249
CREATED:20250721T160814Z
LAST-MODIFIED:20260318T215943Z
UID:10002186-1763035200-1763046000@www.cityofloxley.com
SUMMARY:Games
DESCRIPTION:A group gets together at the Community Center to play games on Thursdays from 12:00-3:00 PM.
URL:https://www.cityofloxley.com/event/games/2025-11-13/
LOCATION:Loxley Community Center\, 2131 E Relham Dr\, Loxley\, 36551\, United States
CATEGORIES:Seniors
END:VEVENT
BEGIN:VEVENT
DTSTART;TZID=America/Chicago:20251113T100000
DTEND;TZID=America/Chicago:20251113T110000
DTSTAMP:20260422T143249
CREATED:20251023T072926Z
LAST-MODIFIED:20260210T195824Z
UID:10002178-1763028000-1763031600@www.cityofloxley.com
SUMMARY:Exercise
DESCRIPTION:Mondays and Thursdays at 10:00 AM.
URL:https://www.cityofloxley.com/event/exercise-2/2025-11-13/
LOCATION:Loxley Civic Center\, 4198 Municipal Park Dr\,\, Loxley\, AL\, 36551\, United States
CATEGORIES:Seniors
END:VEVENT
BEGIN:VEVENT
DTSTART;TZID=America/Chicago:20251113T090000
DTEND;TZID=America/Chicago:20251113T100000
DTSTAMP:20260422T143249
CREATED:20251023T071139Z
LAST-MODIFIED:20260318T215728Z
UID:10002189-1763024400-1763028000@www.cityofloxley.com
SUMMARY:YMCA
DESCRIPTION:
URL:https://www.cityofloxley.com/event/ymca/2025-11-13/
CATEGORIES:Seniors
END:VEVENT
BEGIN:VEVENT
DTSTART;TZID=America/Chicago:20251112T100000
DTEND;TZID=America/Chicago:20251112T100000
DTSTAMP:20260422T143249
CREATED:20251023T071743Z
LAST-MODIFIED:20251023T072613Z
UID:10002192-1762941600-1762941600@www.cityofloxley.com
SUMMARY:Scentsy Flower - Christmas Craft Day
DESCRIPTION:Wednesday November 12th at 10:00 AM we will be coloring Scentsy Flowers with sharpies. Each flower will be Christmas scented and the cost will be $10. Lunch to follow\, sign up so we know you’ll be there.
URL:https://www.cityofloxley.com/event/scentsy-flower-craft-day/
LOCATION:Loxley Civic Center\, 4198 Municipal Park Dr\,\, Loxley\, AL\, 36551\, United States
CATEGORIES:Seniors
END:VEVENT
BEGIN:VEVENT
DTSTART;TZID=America/Chicago:20251111T080000
DTEND;TZID=America/Chicago:20251111T090000
DTSTAMP:20260422T143249
CREATED:20251023T072851Z
LAST-MODIFIED:20260112T225215Z
UID:10002182-1762848000-1762851600@www.cityofloxley.com
SUMMARY:Breakfast
DESCRIPTION:Our buffet-style breakfast is served on Tuesdays at 8:00 AM. Our friends from the DAV will be joining us the first Tuesday of each month.
URL:https://www.cityofloxley.com/event/breakfast-2/2025-11-11/
LOCATION:Loxley Civic Center\, 4198 Municipal Park Dr\,\, Loxley\, AL\, 36551\, United States
CATEGORIES:Seniors
END:VEVENT
BEGIN:VEVENT
DTSTART;TZID=America/Chicago:20251110T080000
DTEND;TZID=America/Chicago:20251110T090000
DTSTAMP:20260422T143249
CREATED:20251023T070839Z
LAST-MODIFIED:20251023T070903Z
UID:10002184-1762761600-1762765200@www.cityofloxley.com
SUMMARY:No Breakfast - Veterans Day
DESCRIPTION:
URL:https://www.cityofloxley.com/event/no-breakfast-veterans-day/
CATEGORIES:Seniors
END:VEVENT
BEGIN:VEVENT
DTSTART;TZID=America/Chicago:20251107T120000
DTEND;TZID=America/Chicago:20251107T120000
DTSTAMP:20260422T143249
CREATED:20251023T071858Z
LAST-MODIFIED:20251023T073340Z
UID:10002194-1762516800-1762516800@www.cityofloxley.com
SUMMARY:Veterans Day Celebration Lunch
DESCRIPTION:If you would like to attend\, please call 251-964-7733 to sign up.
URL:https://www.cityofloxley.com/event/veterans-day-celebration-lunch/
LOCATION:Loxley Civic Center\, 4198 Municipal Park Dr\,\, Loxley\, AL\, 36551\, United States
CATEGORIES:Seniors
END:VEVENT
BEGIN:VEVENT
DTSTART;TZID=America/Chicago:20251106T120000
DTEND;TZID=America/Chicago:20251106T150000
DTSTAMP:20260422T143249
CREATED:20250721T160814Z
LAST-MODIFIED:20260318T215943Z
UID:10002185-1762430400-1762441200@www.cityofloxley.com
SUMMARY:Games
DESCRIPTION:A group gets together at the Community Center to play games on Thursdays from 12:00-3:00 PM.
URL:https://www.cityofloxley.com/event/games/2025-11-06/
LOCATION:Loxley Community Center\, 2131 E Relham Dr\, Loxley\, 36551\, United States
CATEGORIES:Seniors
END:VEVENT
BEGIN:VEVENT
DTSTART;TZID=America/Chicago:20251106T100000
DTEND;TZID=America/Chicago:20251106T110000
DTSTAMP:20260422T143249
CREATED:20251023T072926Z
LAST-MODIFIED:20260210T195824Z
UID:10002176-1762423200-1762426800@www.cityofloxley.com
SUMMARY:Exercise
DESCRIPTION:Mondays and Thursdays at 10:00 AM.
URL:https://www.cityofloxley.com/event/exercise-2/2025-11-06/
LOCATION:Loxley Civic Center\, 4198 Municipal Park Dr\,\, Loxley\, AL\, 36551\, United States
CATEGORIES:Seniors
END:VEVENT
BEGIN:VEVENT
DTSTART;TZID=America/Chicago:20251106T090000
DTEND;TZID=America/Chicago:20251106T100000
DTSTAMP:20260422T143249
CREATED:20251023T071139Z
LAST-MODIFIED:20260318T215728Z
UID:10002188-1762419600-1762423200@www.cityofloxley.com
SUMMARY:YMCA
DESCRIPTION:
URL:https://www.cityofloxley.com/event/ymca/2025-11-06/
CATEGORIES:Seniors
END:VEVENT
BEGIN:VEVENT
DTSTART;TZID=America/Chicago:20251105T130000
DTEND;TZID=America/Chicago:20251105T130000
DTSTAMP:20260422T143249
CREATED:20251023T071643Z
LAST-MODIFIED:20251023T072722Z
UID:10002191-1762347600-1762347600@www.cityofloxley.com
SUMMARY:Birthday Party
DESCRIPTION:Join us for a birthday party on Wednesday\, November 5th at 1:00 PM. We will have cake\, ice cream\, and other snacks to celebrate our honorees.
URL:https://www.cityofloxley.com/event/birthday-party-3/
LOCATION:Loxley Civic Center\, 4198 Municipal Park Dr\,\, Loxley\, AL\, 36551\, United States
CATEGORIES:Seniors
END:VEVENT
BEGIN:VEVENT
DTSTART;TZID=America/Chicago:20251104T080000
DTEND;TZID=America/Chicago:20251104T090000
DTSTAMP:20260422T143249
CREATED:20251023T072851Z
LAST-MODIFIED:20260112T225215Z
UID:10002181-1762243200-1762246800@www.cityofloxley.com
SUMMARY:Breakfast
DESCRIPTION:Our buffet-style breakfast is served on Tuesdays at 8:00 AM. Our friends from the DAV will be joining us the first Tuesday of each month.
URL:https://www.cityofloxley.com/event/breakfast-2/2025-11-04/
LOCATION:Loxley Civic Center\, 4198 Municipal Park Dr\,\, Loxley\, AL\, 36551\, United States
CATEGORIES:Seniors
END:VEVENT
BEGIN:VEVENT
DTSTART;TZID=America/Chicago:20251030T120000
DTEND;TZID=America/Chicago:20251030T150000
DTSTAMP:20260422T143249
CREATED:20250721T160814Z
LAST-MODIFIED:20260318T215943Z
UID:10002158-1761825600-1761836400@www.cityofloxley.com
SUMMARY:Games
DESCRIPTION:A group gets together at the Community Center to play games on Thursdays from 12:00-3:00 PM.
URL:https://www.cityofloxley.com/event/games/2025-10-30/
LOCATION:Loxley Community Center\, 2131 E Relham Dr\, Loxley\, 36551\, United States
CATEGORIES:Seniors
END:VEVENT
BEGIN:VEVENT
DTSTART;TZID=America/Chicago:20251030T100000
DTEND;TZID=America/Chicago:20251030T110000
DTSTAMP:20260422T143249
CREATED:20251023T072926Z
LAST-MODIFIED:20260210T195824Z
UID:10002149-1761818400-1761822000@www.cityofloxley.com
SUMMARY:Exercise
DESCRIPTION:Mondays and Thursdays at 10:00 AM.
URL:https://www.cityofloxley.com/event/exercise-2/2025-10-30/
LOCATION:Loxley Civic Center\, 4198 Municipal Park Dr\,\, Loxley\, AL\, 36551\, United States
CATEGORIES:Seniors
END:VEVENT
BEGIN:VEVENT
DTSTART;TZID=America/Chicago:20251029T120000
DTEND;TZID=America/Chicago:20251029T130000
DTSTAMP:20260422T143249
CREATED:20250922T211337Z
LAST-MODIFIED:20250922T211337Z
UID:10002162-1761739200-1761742800@www.cityofloxley.com
SUMMARY:Potluck Lunch
DESCRIPTION:
URL:https://www.cityofloxley.com/event/potluck-lunch-4/
LOCATION:Loxley Civic Center\, 4198 Municipal Park Dr\,\, Loxley\, AL\, 36551\, United States
CATEGORIES:Seniors
END:VEVENT
BEGIN:VEVENT
DTSTART;TZID=America/Chicago:20251028T080000
DTEND;TZID=America/Chicago:20251028T090000
DTSTAMP:20260422T143249
CREATED:20251023T072851Z
LAST-MODIFIED:20260112T225215Z
UID:10002153-1761638400-1761642000@www.cityofloxley.com
SUMMARY:Breakfast
DESCRIPTION:Our buffet-style breakfast is served on Tuesdays at 8:00 AM. Our friends from the DAV will be joining us the first Tuesday of each month.
URL:https://www.cityofloxley.com/event/breakfast-2/2025-10-28/
LOCATION:Loxley Civic Center\, 4198 Municipal Park Dr\,\, Loxley\, AL\, 36551\, United States
CATEGORIES:Seniors
END:VEVENT
BEGIN:VEVENT
DTSTART;TZID=America/Chicago:20251023T120000
DTEND;TZID=America/Chicago:20251023T150000
DTSTAMP:20260422T143249
CREATED:20250721T160814Z
LAST-MODIFIED:20260318T215943Z
UID:10002157-1761220800-1761231600@www.cityofloxley.com
SUMMARY:Games
DESCRIPTION:A group gets together at the Community Center to play games on Thursdays from 12:00-3:00 PM.
URL:https://www.cityofloxley.com/event/games/2025-10-23/
LOCATION:Loxley Community Center\, 2131 E Relham Dr\, Loxley\, 36551\, United States
CATEGORIES:Seniors
END:VEVENT
BEGIN:VEVENT
DTSTART;TZID=America/Chicago:20251023T100000
DTEND;TZID=America/Chicago:20251023T110000
DTSTAMP:20260422T143249
CREATED:20251023T072926Z
LAST-MODIFIED:20260210T195824Z
UID:10002147-1761213600-1761217200@www.cityofloxley.com
SUMMARY:Exercise
DESCRIPTION:Mondays and Thursdays at 10:00 AM.
URL:https://www.cityofloxley.com/event/exercise-2/2025-10-23/
LOCATION:Loxley Civic Center\, 4198 Municipal Park Dr\,\, Loxley\, AL\, 36551\, United States
CATEGORIES:Seniors
END:VEVENT
BEGIN:VEVENT
DTSTART;TZID=America/Chicago:20251022T103000
DTEND;TZID=America/Chicago:20251022T123000
DTSTAMP:20260422T143249
CREATED:20250922T211038Z
LAST-MODIFIED:20250922T211038Z
UID:10002161-1761129000-1761136200@www.cityofloxley.com
SUMMARY:Lunch Trip - Clovis Cafe Fairhope
DESCRIPTION:
URL:https://www.cityofloxley.com/event/lunch-trip-clovis-cafe-fairhope/
CATEGORIES:Seniors
END:VEVENT
BEGIN:VEVENT
DTSTART;TZID=America/Chicago:20251021T080000
DTEND;TZID=America/Chicago:20251021T090000
DTSTAMP:20260422T143249
CREATED:20250721T152945Z
LAST-MODIFIED:20251023T070756Z
UID:10002152-1761033600-1761037200@www.cityofloxley.com
SUMMARY:Breakfast
DESCRIPTION:
URL:https://www.cityofloxley.com/event/breakfast/2025-10-21/
LOCATION:Loxley Civic Center\, 4198 Municipal Park Dr\,\, Loxley\, AL\, 36551\, United States
CATEGORIES:Seniors
END:VEVENT
BEGIN:VEVENT
DTSTART;TZID=America/Chicago:20251020T100000
DTEND;TZID=America/Chicago:20251020T110000
DTSTAMP:20260422T143249
CREATED:20250721T152808Z
LAST-MODIFIED:20251023T070635Z
UID:10002146-1760954400-1760958000@www.cityofloxley.com
SUMMARY:Exercise
DESCRIPTION:
URL:https://www.cityofloxley.com/event/exercise/2025-10-20/
LOCATION:Loxley Civic Center\, 4198 Municipal Park Dr\,\, Loxley\, AL\, 36551\, United States
CATEGORIES:Seniors
END:VEVENT
BEGIN:VEVENT
DTSTART;TZID=America/Chicago:20251016T120000
DTEND;TZID=America/Chicago:20251016T150000
DTSTAMP:20260422T143249
CREATED:20250721T160814Z
LAST-MODIFIED:20260318T215943Z
UID:10002156-1760616000-1760626800@www.cityofloxley.com
SUMMARY:Games
DESCRIPTION:A group gets together at the Community Center to play games on Thursdays from 12:00-3:00 PM.
URL:https://www.cityofloxley.com/event/games/2025-10-16/
LOCATION:Loxley Community Center\, 2131 E Relham Dr\, Loxley\, 36551\, United States
CATEGORIES:Seniors
END:VEVENT
BEGIN:VEVENT
DTSTART;TZID=America/Chicago:20251016T100000
DTEND;TZID=America/Chicago:20251016T110000
DTSTAMP:20260422T143249
CREATED:20250721T152808Z
LAST-MODIFIED:20251023T070635Z
UID:10002145-1760608800-1760612400@www.cityofloxley.com
SUMMARY:Exercise
DESCRIPTION:
URL:https://www.cityofloxley.com/event/exercise/2025-10-16/
LOCATION:Loxley Civic Center\, 4198 Municipal Park Dr\,\, Loxley\, AL\, 36551\, United States
CATEGORIES:Seniors
END:VEVENT
BEGIN:VEVENT
DTSTART;TZID=America/Chicago:20251014T080000
DTEND;TZID=America/Chicago:20251014T090000
DTSTAMP:20260422T143249
CREATED:20250721T152945Z
LAST-MODIFIED:20251023T070756Z
UID:10002151-1760428800-1760432400@www.cityofloxley.com
SUMMARY:Breakfast
DESCRIPTION:
URL:https://www.cityofloxley.com/event/breakfast/2025-10-14/
LOCATION:Loxley Civic Center\, 4198 Municipal Park Dr\,\, Loxley\, AL\, 36551\, United States
CATEGORIES:Seniors
END:VEVENT
BEGIN:VEVENT
DTSTART;TZID=America/Chicago:20251013T100000
DTEND;TZID=America/Chicago:20251013T110000
DTSTAMP:20260422T143249
CREATED:20250721T152808Z
LAST-MODIFIED:20251023T070635Z
UID:10002144-1760349600-1760353200@www.cityofloxley.com
SUMMARY:Exercise
DESCRIPTION:
URL:https://www.cityofloxley.com/event/exercise/2025-10-13/
LOCATION:Loxley Civic Center\, 4198 Municipal Park Dr\,\, Loxley\, AL\, 36551\, United States
CATEGORIES:Seniors
END:VEVENT
BEGIN:VEVENT
DTSTART;TZID=America/Chicago:20251009T120000
DTEND;TZID=America/Chicago:20251009T150000
DTSTAMP:20260422T143249
CREATED:20250721T160814Z
LAST-MODIFIED:20260318T215943Z
UID:10002155-1760011200-1760022000@www.cityofloxley.com
SUMMARY:Games
DESCRIPTION:A group gets together at the Community Center to play games on Thursdays from 12:00-3:00 PM.
URL:https://www.cityofloxley.com/event/games/2025-10-09/
LOCATION:Loxley Community Center\, 2131 E Relham Dr\, Loxley\, 36551\, United States
CATEGORIES:Seniors
END:VEVENT
END:VCALENDAR