BEGIN:VCALENDAR
VERSION:2.0
PRODID:-//City of Loxley - ECPv6.15.20//NONSGML v1.0//EN
CALSCALE:GREGORIAN
METHOD:PUBLISH
X-WR-CALNAME:City of Loxley
X-ORIGINAL-URL:https://www.cityofloxley.com
X-WR-CALDESC:Events for City of Loxley
REFRESH-INTERVAL;VALUE=DURATION:PT1H
X-Robots-Tag:noindex
X-PUBLISHED-TTL:PT1H
BEGIN:VTIMEZONE
TZID:America/Chicago
BEGIN:DAYLIGHT
TZOFFSETFROM:-0600
TZOFFSETTO:-0500
TZNAME:CDT
DTSTART:20240310T080000
END:DAYLIGHT
BEGIN:STANDARD
TZOFFSETFROM:-0500
TZOFFSETTO:-0600
TZNAME:CST
DTSTART:20241103T070000
END:STANDARD
BEGIN:DAYLIGHT
TZOFFSETFROM:-0600
TZOFFSETTO:-0500
TZNAME:CDT
DTSTART:20250309T080000
END:DAYLIGHT
BEGIN:STANDARD
TZOFFSETFROM:-0500
TZOFFSETTO:-0600
TZNAME:CST
DTSTART:20251102T070000
END:STANDARD
BEGIN:DAYLIGHT
TZOFFSETFROM:-0600
TZOFFSETTO:-0500
TZNAME:CDT
DTSTART:20260308T080000
END:DAYLIGHT
BEGIN:STANDARD
TZOFFSETFROM:-0500
TZOFFSETTO:-0600
TZNAME:CST
DTSTART:20261101T070000
END:STANDARD
END:VTIMEZONE
BEGIN:VEVENT
DTSTART;TZID=America/Chicago:20250915T100000
DTEND;TZID=America/Chicago:20250915T110000
DTSTAMP:20260422T215535
CREATED:20250721T152808Z
LAST-MODIFIED:20251023T070635Z
UID:10001966-1757930400-1757934000@www.cityofloxley.com
SUMMARY:Exercise
DESCRIPTION:
URL:https://www.cityofloxley.com/event/exercise/2025-09-15/
LOCATION:Loxley Civic Center\, 4198 Municipal Park Dr\,\, Loxley\, AL\, 36551\, United States
CATEGORIES:Seniors
END:VEVENT
BEGIN:VEVENT
DTSTART;TZID=America/Chicago:20250911T120000
DTEND;TZID=America/Chicago:20250911T150000
DTSTAMP:20260422T215535
CREATED:20250721T160814Z
LAST-MODIFIED:20260318T215943Z
UID:10001977-1757592000-1757602800@www.cityofloxley.com
SUMMARY:Games
DESCRIPTION:A group gets together at the Community Center to play games on Thursdays from 12:00-3:00 PM.
URL:https://www.cityofloxley.com/event/games/2025-09-11/
LOCATION:Loxley Community Center\, 2131 E Relham Dr\, Loxley\, 36551\, United States
CATEGORIES:Seniors
END:VEVENT
BEGIN:VEVENT
DTSTART;TZID=America/Chicago:20250911T100000
DTEND;TZID=America/Chicago:20250911T110000
DTSTAMP:20260422T215535
CREATED:20250721T152808Z
LAST-MODIFIED:20251023T070635Z
UID:10001965-1757584800-1757588400@www.cityofloxley.com
SUMMARY:Exercise
DESCRIPTION:
URL:https://www.cityofloxley.com/event/exercise/2025-09-11/
LOCATION:Loxley Civic Center\, 4198 Municipal Park Dr\,\, Loxley\, AL\, 36551\, United States
CATEGORIES:Seniors
END:VEVENT
BEGIN:VEVENT
DTSTART;TZID=America/Chicago:20250909T080000
DTEND;TZID=America/Chicago:20250909T090000
DTSTAMP:20260422T215535
CREATED:20250721T152945Z
LAST-MODIFIED:20251023T070756Z
UID:10001972-1757404800-1757408400@www.cityofloxley.com
SUMMARY:Breakfast
DESCRIPTION:
URL:https://www.cityofloxley.com/event/breakfast/2025-09-09/
LOCATION:Loxley Civic Center\, 4198 Municipal Park Dr\,\, Loxley\, AL\, 36551\, United States
CATEGORIES:Seniors
END:VEVENT
BEGIN:VEVENT
DTSTART;TZID=America/Chicago:20250908T100000
DTEND;TZID=America/Chicago:20250908T110000
DTSTAMP:20260422T215535
CREATED:20250721T152808Z
LAST-MODIFIED:20251023T070635Z
UID:10001964-1757325600-1757329200@www.cityofloxley.com
SUMMARY:Exercise
DESCRIPTION:
URL:https://www.cityofloxley.com/event/exercise/2025-09-08/
LOCATION:Loxley Civic Center\, 4198 Municipal Park Dr\,\, Loxley\, AL\, 36551\, United States
CATEGORIES:Seniors
END:VEVENT
BEGIN:VEVENT
DTSTART;TZID=America/Chicago:20250904T120000
DTEND;TZID=America/Chicago:20250904T150000
DTSTAMP:20260422T215535
CREATED:20250721T160814Z
LAST-MODIFIED:20260318T215943Z
UID:10001976-1756987200-1756998000@www.cityofloxley.com
SUMMARY:Games
DESCRIPTION:A group gets together at the Community Center to play games on Thursdays from 12:00-3:00 PM.
URL:https://www.cityofloxley.com/event/games/2025-09-04/
LOCATION:Loxley Community Center\, 2131 E Relham Dr\, Loxley\, 36551\, United States
CATEGORIES:Seniors
END:VEVENT
BEGIN:VEVENT
DTSTART;TZID=America/Chicago:20250904T100000
DTEND;TZID=America/Chicago:20250904T110000
DTSTAMP:20260422T215535
CREATED:20250721T152808Z
LAST-MODIFIED:20251023T070635Z
UID:10001963-1756980000-1756983600@www.cityofloxley.com
SUMMARY:Exercise
DESCRIPTION:
URL:https://www.cityofloxley.com/event/exercise/2025-09-04/
LOCATION:Loxley Civic Center\, 4198 Municipal Park Dr\,\, Loxley\, AL\, 36551\, United States
CATEGORIES:Seniors
END:VEVENT
BEGIN:VEVENT
DTSTART;TZID=America/Chicago:20250903T130000
DTEND;TZID=America/Chicago:20250903T130000
DTSTAMP:20260422T215535
CREATED:20250820T205351Z
LAST-MODIFIED:20250820T210315Z
UID:10001962-1756904400-1756904400@www.cityofloxley.com
SUMMARY:Movie Day - AMC Theater - Daphne
DESCRIPTION:
URL:https://www.cityofloxley.com/event/movie-day/
CATEGORIES:Seniors
END:VEVENT
BEGIN:VEVENT
DTSTART;TZID=America/Chicago:20250902T080000
DTEND;TZID=America/Chicago:20250902T090000
DTSTAMP:20260422T215535
CREATED:20250721T152945Z
LAST-MODIFIED:20251023T070756Z
UID:10001971-1756800000-1756803600@www.cityofloxley.com
SUMMARY:Breakfast
DESCRIPTION:
URL:https://www.cityofloxley.com/event/breakfast/2025-09-02/
LOCATION:Loxley Civic Center\, 4198 Municipal Park Dr\,\, Loxley\, AL\, 36551\, United States
CATEGORIES:Seniors
END:VEVENT
BEGIN:VEVENT
DTSTART;VALUE=DATE:20250901
DTEND;VALUE=DATE:20250902
DTSTAMP:20260422T215535
CREATED:20250820T205153Z
LAST-MODIFIED:20250820T205153Z
UID:10001961-1756684800-1756771199@www.cityofloxley.com
SUMMARY:Civic Center Closed
DESCRIPTION:The Civic Center will be closed in observance of Labor Day.
URL:https://www.cityofloxley.com/event/civic-center-closed-2/
LOCATION:Loxley Civic Center\, 4198 Municipal Park Dr\,\, Loxley\, AL\, 36551\, United States
CATEGORIES:Seniors
END:VEVENT
BEGIN:VEVENT
DTSTART;TZID=America/Chicago:20250828T120000
DTEND;TZID=America/Chicago:20250828T150000
DTSTAMP:20260422T215535
CREATED:20250721T160814Z
LAST-MODIFIED:20260318T215943Z
UID:10001956-1756382400-1756393200@www.cityofloxley.com
SUMMARY:Games
DESCRIPTION:A group gets together at the Community Center to play games on Thursdays from 12:00-3:00 PM.
URL:https://www.cityofloxley.com/event/games/2025-08-28/
LOCATION:Loxley Community Center\, 2131 E Relham Dr\, Loxley\, 36551\, United States
CATEGORIES:Seniors
END:VEVENT
BEGIN:VEVENT
DTSTART;TZID=America/Chicago:20250828T100000
DTEND;TZID=America/Chicago:20250828T110000
DTSTAMP:20260422T215535
CREATED:20250721T152808Z
LAST-MODIFIED:20251023T070635Z
UID:10001948-1756375200-1756378800@www.cityofloxley.com
SUMMARY:Exercise
DESCRIPTION:
URL:https://www.cityofloxley.com/event/exercise/2025-08-28/
LOCATION:Loxley Civic Center\, 4198 Municipal Park Dr\,\, Loxley\, AL\, 36551\, United States
CATEGORIES:Seniors
END:VEVENT
BEGIN:VEVENT
DTSTART;TZID=America/Chicago:20250827T120000
DTEND;TZID=America/Chicago:20250827T120000
DTSTAMP:20260422T215535
CREATED:20250721T153959Z
LAST-MODIFIED:20251209T052130Z
UID:10001952-1756296000-1756296000@www.cityofloxley.com
SUMMARY:Potluck Lunch
DESCRIPTION:
URL:https://www.cityofloxley.com/event/potluck-lunch-3/2025-08-27/
LOCATION:Loxley Civic Center\, 4198 Municipal Park Dr\,\, Loxley\, AL\, 36551\, United States
CATEGORIES:Seniors
END:VEVENT
BEGIN:VEVENT
DTSTART;TZID=America/Chicago:20250826T080000
DTEND;TZID=America/Chicago:20250826T090000
DTSTAMP:20260422T215535
CREATED:20250721T152945Z
LAST-MODIFIED:20251023T070756Z
UID:10001940-1756195200-1756198800@www.cityofloxley.com
SUMMARY:Breakfast
DESCRIPTION:
URL:https://www.cityofloxley.com/event/breakfast/2025-08-26/
LOCATION:Loxley Civic Center\, 4198 Municipal Park Dr\,\, Loxley\, AL\, 36551\, United States
CATEGORIES:Seniors
END:VEVENT
BEGIN:VEVENT
DTSTART;TZID=America/Chicago:20250825T100000
DTEND;TZID=America/Chicago:20250825T110000
DTSTAMP:20260422T215535
CREATED:20250721T152808Z
LAST-MODIFIED:20251023T070635Z
UID:10001947-1756116000-1756119600@www.cityofloxley.com
SUMMARY:Exercise
DESCRIPTION:
URL:https://www.cityofloxley.com/event/exercise/2025-08-25/
LOCATION:Loxley Civic Center\, 4198 Municipal Park Dr\,\, Loxley\, AL\, 36551\, United States
CATEGORIES:Seniors
END:VEVENT
BEGIN:VEVENT
DTSTART;TZID=America/Chicago:20250821T120000
DTEND;TZID=America/Chicago:20250821T150000
DTSTAMP:20260422T215535
CREATED:20250721T160814Z
LAST-MODIFIED:20260318T215943Z
UID:10001955-1755777600-1755788400@www.cityofloxley.com
SUMMARY:Games
DESCRIPTION:A group gets together at the Community Center to play games on Thursdays from 12:00-3:00 PM.
URL:https://www.cityofloxley.com/event/games/2025-08-21/
LOCATION:Loxley Community Center\, 2131 E Relham Dr\, Loxley\, 36551\, United States
CATEGORIES:Seniors
END:VEVENT
BEGIN:VEVENT
DTSTART;TZID=America/Chicago:20250821T100000
DTEND;TZID=America/Chicago:20250821T110000
DTSTAMP:20260422T215535
CREATED:20250721T152808Z
LAST-MODIFIED:20251023T070635Z
UID:10001946-1755770400-1755774000@www.cityofloxley.com
SUMMARY:Exercise
DESCRIPTION:
URL:https://www.cityofloxley.com/event/exercise/2025-08-21/
LOCATION:Loxley Civic Center\, 4198 Municipal Park Dr\,\, Loxley\, AL\, 36551\, United States
CATEGORIES:Seniors
END:VEVENT
BEGIN:VEVENT
DTSTART;TZID=America/Chicago:20250820T100000
DTEND;TZID=America/Chicago:20250820T100000
DTSTAMP:20260422T215535
CREATED:20250721T153852Z
LAST-MODIFIED:20250721T153852Z
UID:10001951-1755684000-1755684000@www.cityofloxley.com
SUMMARY:Bingo
DESCRIPTION:
URL:https://www.cityofloxley.com/event/bingo/
LOCATION:Loxley Civic Center\, 4198 Municipal Park Dr\,\, Loxley\, AL\, 36551\, United States
CATEGORIES:Seniors
END:VEVENT
BEGIN:VEVENT
DTSTART;TZID=America/Chicago:20250819T080000
DTEND;TZID=America/Chicago:20250819T090000
DTSTAMP:20260422T215535
CREATED:20250721T152945Z
LAST-MODIFIED:20251023T070756Z
UID:10001939-1755590400-1755594000@www.cityofloxley.com
SUMMARY:Breakfast
DESCRIPTION:
URL:https://www.cityofloxley.com/event/breakfast/2025-08-19/
LOCATION:Loxley Civic Center\, 4198 Municipal Park Dr\,\, Loxley\, AL\, 36551\, United States
CATEGORIES:Seniors
END:VEVENT
BEGIN:VEVENT
DTSTART;TZID=America/Chicago:20250818T100000
DTEND;TZID=America/Chicago:20250818T110000
DTSTAMP:20260422T215535
CREATED:20250721T152808Z
LAST-MODIFIED:20251023T070635Z
UID:10001945-1755511200-1755514800@www.cityofloxley.com
SUMMARY:Exercise
DESCRIPTION:
URL:https://www.cityofloxley.com/event/exercise/2025-08-18/
LOCATION:Loxley Civic Center\, 4198 Municipal Park Dr\,\, Loxley\, AL\, 36551\, United States
CATEGORIES:Seniors
END:VEVENT
BEGIN:VEVENT
DTSTART;TZID=America/Chicago:20250814T120000
DTEND;TZID=America/Chicago:20250814T150000
DTSTAMP:20260422T215535
CREATED:20250721T160814Z
LAST-MODIFIED:20260318T215943Z
UID:10001954-1755172800-1755183600@www.cityofloxley.com
SUMMARY:Games
DESCRIPTION:A group gets together at the Community Center to play games on Thursdays from 12:00-3:00 PM.
URL:https://www.cityofloxley.com/event/games/2025-08-14/
LOCATION:Loxley Community Center\, 2131 E Relham Dr\, Loxley\, 36551\, United States
CATEGORIES:Seniors
END:VEVENT
BEGIN:VEVENT
DTSTART;TZID=America/Chicago:20250814T100000
DTEND;TZID=America/Chicago:20250814T110000
DTSTAMP:20260422T215535
CREATED:20250721T152808Z
LAST-MODIFIED:20251023T070635Z
UID:10001944-1755165600-1755169200@www.cityofloxley.com
SUMMARY:Exercise
DESCRIPTION:
URL:https://www.cityofloxley.com/event/exercise/2025-08-14/
LOCATION:Loxley Civic Center\, 4198 Municipal Park Dr\,\, Loxley\, AL\, 36551\, United States
CATEGORIES:Seniors
END:VEVENT
BEGIN:VEVENT
DTSTART;TZID=America/Chicago:20250812T080000
DTEND;TZID=America/Chicago:20250812T090000
DTSTAMP:20260422T215535
CREATED:20250721T152945Z
LAST-MODIFIED:20251023T070756Z
UID:10001938-1754985600-1754989200@www.cityofloxley.com
SUMMARY:Breakfast
DESCRIPTION:
URL:https://www.cityofloxley.com/event/breakfast/2025-08-12/
LOCATION:Loxley Civic Center\, 4198 Municipal Park Dr\,\, Loxley\, AL\, 36551\, United States
CATEGORIES:Seniors
END:VEVENT
BEGIN:VEVENT
DTSTART;TZID=America/Chicago:20250811T100000
DTEND;TZID=America/Chicago:20250811T110000
DTSTAMP:20260422T215535
CREATED:20250721T152808Z
LAST-MODIFIED:20251023T070635Z
UID:10001937-1754906400-1754910000@www.cityofloxley.com
SUMMARY:Exercise
DESCRIPTION:
URL:https://www.cityofloxley.com/event/exercise/2025-08-11/
LOCATION:Loxley Civic Center\, 4198 Municipal Park Dr\,\, Loxley\, AL\, 36551\, United States
CATEGORIES:Seniors
END:VEVENT
BEGIN:VEVENT
DTSTART;TZID=America/Chicago:20250807T120000
DTEND;TZID=America/Chicago:20250807T150000
DTSTAMP:20260422T215535
CREATED:20250721T160814Z
LAST-MODIFIED:20260318T215943Z
UID:10001953-1754568000-1754578800@www.cityofloxley.com
SUMMARY:Games
DESCRIPTION:A group gets together at the Community Center to play games on Thursdays from 12:00-3:00 PM.
URL:https://www.cityofloxley.com/event/games/2025-08-07/
LOCATION:Loxley Community Center\, 2131 E Relham Dr\, Loxley\, 36551\, United States
CATEGORIES:Seniors
END:VEVENT
BEGIN:VEVENT
DTSTART;TZID=America/Chicago:20250807T100000
DTEND;TZID=America/Chicago:20250807T110000
DTSTAMP:20260422T215535
CREATED:20250721T152808Z
LAST-MODIFIED:20251023T070635Z
UID:10001943-1754560800-1754564400@www.cityofloxley.com
SUMMARY:Exercise
DESCRIPTION:
URL:https://www.cityofloxley.com/event/exercise/2025-08-07/
LOCATION:Loxley Civic Center\, 4198 Municipal Park Dr\,\, Loxley\, AL\, 36551\, United States
CATEGORIES:Seniors
END:VEVENT
BEGIN:VEVENT
DTSTART;TZID=America/Chicago:20250806T103000
DTEND;TZID=America/Chicago:20250806T103000
DTSTAMP:20260422T215535
CREATED:20250721T153725Z
LAST-MODIFIED:20250721T153725Z
UID:10001949-1754476200-1754476200@www.cityofloxley.com
SUMMARY:Lunch Trip - Moe's BBQ - Daphne
DESCRIPTION:
URL:https://www.cityofloxley.com/event/lunch-trip-moes-bbq-daphne/
CATEGORIES:Seniors
END:VEVENT
BEGIN:VEVENT
DTSTART;TZID=America/Chicago:20250804T100000
DTEND;TZID=America/Chicago:20250804T110000
DTSTAMP:20260422T215535
CREATED:20250721T152808Z
LAST-MODIFIED:20251023T070635Z
UID:10001936-1754301600-1754305200@www.cityofloxley.com
SUMMARY:Exercise
DESCRIPTION:
URL:https://www.cityofloxley.com/event/exercise/2025-08-04/
LOCATION:Loxley Civic Center\, 4198 Municipal Park Dr\,\, Loxley\, AL\, 36551\, United States
CATEGORIES:Seniors
END:VEVENT
BEGIN:VEVENT
DTSTART;TZID=America/Chicago:20250730T120000
DTEND;TZID=America/Chicago:20250730T120000
DTSTAMP:20260422T215535
CREATED:20250507T193218Z
LAST-MODIFIED:20250507T193218Z
UID:10001817-1753876800-1753876800@www.cityofloxley.com
SUMMARY:Potluck Lunch
DESCRIPTION:
URL:https://www.cityofloxley.com/event/potluck-lunch-2/
LOCATION:Loxley Civic Center\, 4198 Municipal Park Dr\,\, Loxley\, AL\, 36551\, United States
CATEGORIES:Seniors
END:VEVENT
BEGIN:VEVENT
DTSTART;TZID=America/Chicago:20250723T103000
DTEND;TZID=America/Chicago:20250723T103000
DTSTAMP:20260422T215535
CREATED:20250507T193139Z
LAST-MODIFIED:20250507T193139Z
UID:10001816-1753266600-1753266600@www.cityofloxley.com
SUMMARY:Lunch Trip - Dan’s Diner Summerdale
DESCRIPTION:
URL:https://www.cityofloxley.com/event/lunch-trip-dans-diner-summerdale/
CATEGORIES:Seniors
END:VEVENT
END:VCALENDAR