BEGIN:VCALENDAR
VERSION:2.0
PRODID:-//City of Loxley - ECPv6.15.20//NONSGML v1.0//EN
CALSCALE:GREGORIAN
METHOD:PUBLISH
X-ORIGINAL-URL:https://www.cityofloxley.com
X-WR-CALDESC:Events for City of Loxley
REFRESH-INTERVAL;VALUE=DURATION:PT1H
X-Robots-Tag:noindex
X-PUBLISHED-TTL:PT1H
BEGIN:VTIMEZONE
TZID:America/Chicago
BEGIN:DAYLIGHT
TZOFFSETFROM:-0600
TZOFFSETTO:-0500
TZNAME:CDT
DTSTART:20240310T080000
END:DAYLIGHT
BEGIN:STANDARD
TZOFFSETFROM:-0500
TZOFFSETTO:-0600
TZNAME:CST
DTSTART:20241103T070000
END:STANDARD
BEGIN:DAYLIGHT
TZOFFSETFROM:-0600
TZOFFSETTO:-0500
TZNAME:CDT
DTSTART:20250309T080000
END:DAYLIGHT
BEGIN:STANDARD
TZOFFSETFROM:-0500
TZOFFSETTO:-0600
TZNAME:CST
DTSTART:20251102T070000
END:STANDARD
BEGIN:DAYLIGHT
TZOFFSETFROM:-0600
TZOFFSETTO:-0500
TZNAME:CDT
DTSTART:20260308T080000
END:DAYLIGHT
BEGIN:STANDARD
TZOFFSETFROM:-0500
TZOFFSETTO:-0600
TZNAME:CST
DTSTART:20261101T070000
END:STANDARD
END:VTIMEZONE
BEGIN:VEVENT
DTSTART;TZID=America/Chicago:20250515T120000
DTEND;TZID=America/Chicago:20250515T150000
DTSTAMP:20260423T041912
CREATED:20250401T181846Z
LAST-MODIFIED:20250506T215114Z
UID:10000826-1747310400-1747321200@www.cityofloxley.com
SUMMARY:Senior Games at BLG#2
DESCRIPTION:
URL:https://www.cityofloxley.com/event/senior-games-at-blg2/2025-05-15/
LOCATION:Loxley Civic Center\, 4198 Municipal Park Dr\,\, Loxley\, AL\, 36551\, United States
CATEGORIES:City,Seniors
END:VEVENT
BEGIN:VEVENT
DTSTART;TZID=America/Chicago:20250515T100000
DTEND;TZID=America/Chicago:20250515T110000
DTSTAMP:20260423T041912
CREATED:20250401T181742Z
LAST-MODIFIED:20250506T212941Z
UID:10000840-1747303200-1747306800@www.cityofloxley.com
SUMMARY:Chair Yoga
DESCRIPTION:
URL:https://www.cityofloxley.com/event/chair-yoga/2025-05-15/
LOCATION:Loxley Civic Center\, 4198 Municipal Park Dr\,\, Loxley\, AL\, 36551\, United States
CATEGORIES:City,Seniors
END:VEVENT
BEGIN:VEVENT
DTSTART;TZID=America/Chicago:20250513T080000
DTEND;TZID=America/Chicago:20250513T090000
DTSTAMP:20260423T041912
CREATED:20250403T063103Z
LAST-MODIFIED:20250506T213157Z
UID:10001355-1747123200-1747126800@www.cityofloxley.com
SUMMARY:Senior Breakfast
DESCRIPTION:
URL:https://www.cityofloxley.com/event/senior-breakfast/2025-05-13/
LOCATION:Loxley Civic Center\, 4198 Municipal Park Dr\,\, Loxley\, AL\, 36551\, United States
CATEGORIES:City,Seniors
END:VEVENT
BEGIN:VEVENT
DTSTART;TZID=America/Chicago:20250512T100000
DTEND;TZID=America/Chicago:20250512T110000
DTSTAMP:20260423T041912
CREATED:20250401T181742Z
LAST-MODIFIED:20250506T212941Z
UID:10000839-1747044000-1747047600@www.cityofloxley.com
SUMMARY:Chair Yoga
DESCRIPTION:
URL:https://www.cityofloxley.com/event/chair-yoga/2025-05-12/
LOCATION:Loxley Civic Center\, 4198 Municipal Park Dr\,\, Loxley\, AL\, 36551\, United States
CATEGORIES:City,Seniors
END:VEVENT
BEGIN:VEVENT
DTSTART;TZID=America/Chicago:20250508T120000
DTEND;TZID=America/Chicago:20250508T150000
DTSTAMP:20260423T041912
CREATED:20250401T181846Z
LAST-MODIFIED:20250506T215114Z
UID:10000825-1746705600-1746716400@www.cityofloxley.com
SUMMARY:Senior Games at BLG#2
DESCRIPTION:
URL:https://www.cityofloxley.com/event/senior-games-at-blg2/2025-05-08/
LOCATION:Loxley Civic Center\, 4198 Municipal Park Dr\,\, Loxley\, AL\, 36551\, United States
CATEGORIES:City,Seniors
END:VEVENT
BEGIN:VEVENT
DTSTART;TZID=America/Chicago:20250508T100000
DTEND;TZID=America/Chicago:20250508T110000
DTSTAMP:20260423T041912
CREATED:20250401T181742Z
LAST-MODIFIED:20250506T212941Z
UID:10000838-1746698400-1746702000@www.cityofloxley.com
SUMMARY:Chair Yoga
DESCRIPTION:
URL:https://www.cityofloxley.com/event/chair-yoga/2025-05-08/
LOCATION:Loxley Civic Center\, 4198 Municipal Park Dr\,\, Loxley\, AL\, 36551\, United States
CATEGORIES:City,Seniors
END:VEVENT
BEGIN:VEVENT
DTSTART;TZID=America/Chicago:20250507T130000
DTEND;TZID=America/Chicago:20250507T130000
DTSTAMP:20260423T041912
CREATED:20250506T211545Z
LAST-MODIFIED:20250506T211545Z
UID:10001793-1746622800-1746622800@www.cityofloxley.com
SUMMARY:Senior Birthday Party - Rosinton
DESCRIPTION:
URL:https://www.cityofloxley.com/event/senior-birthday-party-rosinton/
LOCATION:AL
CATEGORIES:Seniors
END:VEVENT
BEGIN:VEVENT
DTSTART;TZID=America/Chicago:20250506T103000
DTEND;TZID=America/Chicago:20250506T103000
DTSTAMP:20260423T041912
CREATED:20250506T211856Z
LAST-MODIFIED:20250506T211938Z
UID:10001795-1746527400-1746527400@www.cityofloxley.com
SUMMARY:Lunch Trip— Wolf Bay Lodge Foley
DESCRIPTION:SENIOR LUNCH TRIP/MUST SIGN UP/***HELD FOR LADIES MARDI GRAS***
URL:https://www.cityofloxley.com/event/lunch-trip-wolf-bay-lodge-foley/
LOCATION:AL
CATEGORIES:Seniors
END:VEVENT
BEGIN:VEVENT
DTSTART;TZID=America/Chicago:20250506T080000
DTEND;TZID=America/Chicago:20250506T090000
DTSTAMP:20260423T041912
CREATED:20250403T063103Z
LAST-MODIFIED:20250506T213157Z
UID:10001354-1746518400-1746522000@www.cityofloxley.com
SUMMARY:Senior Breakfast
DESCRIPTION:
URL:https://www.cityofloxley.com/event/senior-breakfast/2025-05-06/
LOCATION:Loxley Civic Center\, 4198 Municipal Park Dr\,\, Loxley\, AL\, 36551\, United States
CATEGORIES:City,Seniors
END:VEVENT
BEGIN:VEVENT
DTSTART;VALUE=DATE:20250506
DTEND;VALUE=DATE:20250507
DTSTAMP:20260423T041912
CREATED:20250506T211730Z
LAST-MODIFIED:20250506T211730Z
UID:10001794-1746489600-1746575999@www.cityofloxley.com
SUMMARY:Fairhope Pier & The Blind Tiger
DESCRIPTION:
URL:https://www.cityofloxley.com/event/fairhope-pier-the-blind-tiger/
LOCATION:AL
CATEGORIES:Seniors
END:VEVENT
BEGIN:VEVENT
DTSTART;TZID=America/Chicago:20250505T120000
DTEND;TZID=America/Chicago:20250505T120000
DTSTAMP:20260423T041912
CREATED:20250506T211353Z
LAST-MODIFIED:20250506T211353Z
UID:10001792-1746446400-1746446400@www.cityofloxley.com
SUMMARY:Cinco de Mayo Lunch
DESCRIPTION:
URL:https://www.cityofloxley.com/event/cinco-de-mayo-lunch/
LOCATION:AL
CATEGORIES:Seniors
END:VEVENT
BEGIN:VEVENT
DTSTART;TZID=America/Chicago:20250505T100000
DTEND;TZID=America/Chicago:20250505T110000
DTSTAMP:20260423T041912
CREATED:20250401T181742Z
LAST-MODIFIED:20250506T212941Z
UID:10000837-1746439200-1746442800@www.cityofloxley.com
SUMMARY:Chair Yoga
DESCRIPTION:
URL:https://www.cityofloxley.com/event/chair-yoga/2025-05-05/
LOCATION:Loxley Civic Center\, 4198 Municipal Park Dr\,\, Loxley\, AL\, 36551\, United States
CATEGORIES:City,Seniors
END:VEVENT
BEGIN:VEVENT
DTSTART;TZID=America/Chicago:20250502T090000
DTEND;TZID=America/Chicago:20250502T100000
DTSTAMP:20260423T041912
CREATED:20250401T182117Z
LAST-MODIFIED:20250506T201736Z
UID:10000816-1746176400-1746180000@www.cityofloxley.com
SUMMARY:Coffee & Tea
DESCRIPTION:
URL:https://www.cityofloxley.com/event/coffee-tea/2025-05-02/
LOCATION:Loxley Civic Center\, 4198 Municipal Park Dr\,\, Loxley\, AL\, 36551\, United States
CATEGORIES:City,Seniors
END:VEVENT
BEGIN:VEVENT
DTSTART;TZID=America/Chicago:20250501T120000
DTEND;TZID=America/Chicago:20250501T150000
DTSTAMP:20260423T041912
CREATED:20250401T181846Z
LAST-MODIFIED:20250506T215114Z
UID:10000824-1746100800-1746111600@www.cityofloxley.com
SUMMARY:Senior Games at BLG#2
DESCRIPTION:
URL:https://www.cityofloxley.com/event/senior-games-at-blg2/2025-05-01/
LOCATION:Loxley Civic Center\, 4198 Municipal Park Dr\,\, Loxley\, AL\, 36551\, United States
CATEGORIES:City,Seniors
END:VEVENT
BEGIN:VEVENT
DTSTART;TZID=America/Chicago:20250501T100000
DTEND;TZID=America/Chicago:20250501T110000
DTSTAMP:20260423T041912
CREATED:20250401T181742Z
LAST-MODIFIED:20250506T212941Z
UID:10000836-1746093600-1746097200@www.cityofloxley.com
SUMMARY:Chair Yoga
DESCRIPTION:
URL:https://www.cityofloxley.com/event/chair-yoga/2025-05-01/
LOCATION:Loxley Civic Center\, 4198 Municipal Park Dr\,\, Loxley\, AL\, 36551\, United States
CATEGORIES:City,Seniors
END:VEVENT
BEGIN:VEVENT
DTSTART;TZID=America/Chicago:20250430T120000
DTEND;TZID=America/Chicago:20250430T120000
DTSTAMP:20260423T041912
CREATED:20250403T065743Z
LAST-MODIFIED:20250403T065743Z
UID:10001614-1746014400-1746014400@www.cityofloxley.com
SUMMARY:Senior Potluck Lunch
DESCRIPTION:
URL:https://www.cityofloxley.com/event/senior-potluck-lunch/
LOCATION:Loxley Civic Center\, 4198 Municipal Park Dr\,\, Loxley\, AL\, 36551\, United States
CATEGORIES:City,Seniors
END:VEVENT
BEGIN:VEVENT
DTSTART;TZID=America/Chicago:20250429T080000
DTEND;TZID=America/Chicago:20250429T090000
DTSTAMP:20260423T041912
CREATED:20250403T063103Z
LAST-MODIFIED:20250506T213157Z
UID:10001353-1745913600-1745917200@www.cityofloxley.com
SUMMARY:Senior Breakfast
DESCRIPTION:
URL:https://www.cityofloxley.com/event/senior-breakfast/2025-04-29/
LOCATION:Loxley Civic Center\, 4198 Municipal Park Dr\,\, Loxley\, AL\, 36551\, United States
CATEGORIES:City,Seniors
END:VEVENT
BEGIN:VEVENT
DTSTART;TZID=America/Chicago:20250428T100000
DTEND;TZID=America/Chicago:20250428T110000
DTSTAMP:20260423T041912
CREATED:20250401T181742Z
LAST-MODIFIED:20250506T212941Z
UID:10000835-1745834400-1745838000@www.cityofloxley.com
SUMMARY:Chair Yoga
DESCRIPTION:
URL:https://www.cityofloxley.com/event/chair-yoga/2025-04-28/
LOCATION:Loxley Civic Center\, 4198 Municipal Park Dr\,\, Loxley\, AL\, 36551\, United States
CATEGORIES:City,Seniors
END:VEVENT
BEGIN:VEVENT
DTSTART;TZID=America/Chicago:20250425T090000
DTEND;TZID=America/Chicago:20250425T100000
DTSTAMP:20260423T041912
CREATED:20250506T202022Z
LAST-MODIFIED:20250506T202026Z
UID:10000817-1745571600-1745575200@www.cityofloxley.com
SUMMARY:Coffee & Tea
DESCRIPTION:
URL:https://www.cityofloxley.com/event/coffee-tea-2/
LOCATION:Loxley Civic Center\, 4198 Municipal Park Dr\,\, Loxley\, AL\, 36551\, United States
CATEGORIES:City,Seniors
END:VEVENT
BEGIN:VEVENT
DTSTART;TZID=America/Chicago:20250425T090000
DTEND;TZID=America/Chicago:20250425T100000
DTSTAMP:20260423T041912
CREATED:20250401T182117Z
LAST-MODIFIED:20250506T201736Z
UID:10000815-1745571600-1745575200@www.cityofloxley.com
SUMMARY:Coffee & Tea
DESCRIPTION:
URL:https://www.cityofloxley.com/event/coffee-tea/2025-04-25/
LOCATION:Loxley Civic Center\, 4198 Municipal Park Dr\,\, Loxley\, AL\, 36551\, United States
CATEGORIES:City,Seniors
END:VEVENT
BEGIN:VEVENT
DTSTART;TZID=America/Chicago:20250424T120000
DTEND;TZID=America/Chicago:20250424T150000
DTSTAMP:20260423T041912
CREATED:20250401T181846Z
LAST-MODIFIED:20250506T215114Z
UID:10000823-1745496000-1745506800@www.cityofloxley.com
SUMMARY:Senior Games at BLG#2
DESCRIPTION:
URL:https://www.cityofloxley.com/event/senior-games-at-blg2/2025-04-24/
LOCATION:Loxley Civic Center\, 4198 Municipal Park Dr\,\, Loxley\, AL\, 36551\, United States
CATEGORIES:City,Seniors
END:VEVENT
BEGIN:VEVENT
DTSTART;TZID=America/Chicago:20250424T100000
DTEND;TZID=America/Chicago:20250424T110000
DTSTAMP:20260423T041912
CREATED:20250401T181742Z
LAST-MODIFIED:20250506T212941Z
UID:10000834-1745488800-1745492400@www.cityofloxley.com
SUMMARY:Chair Yoga
DESCRIPTION:
URL:https://www.cityofloxley.com/event/chair-yoga/2025-04-24/
LOCATION:Loxley Civic Center\, 4198 Municipal Park Dr\,\, Loxley\, AL\, 36551\, United States
CATEGORIES:City,Seniors
END:VEVENT
BEGIN:VEVENT
DTSTART;TZID=America/Chicago:20250423T110000
DTEND;TZID=America/Chicago:20250423T110000
DTSTAMP:20260423T041912
CREATED:20250403T065506Z
LAST-MODIFIED:20250403T065506Z
UID:10001613-1745406000-1745406000@www.cityofloxley.com
SUMMARY:Senior Earth Day Fern Planting
DESCRIPTION:
URL:https://www.cityofloxley.com/event/senior-earth-day-fern-planting/
LOCATION:Loxley Civic Center\, 4198 Municipal Park Dr\,\, Loxley\, AL\, 36551\, United States
CATEGORIES:City,Seniors
END:VEVENT
BEGIN:VEVENT
DTSTART;TZID=America/Chicago:20250422T080000
DTEND;TZID=America/Chicago:20250422T090000
DTSTAMP:20260423T041912
CREATED:20250403T063103Z
LAST-MODIFIED:20250506T213157Z
UID:10001352-1745308800-1745312400@www.cityofloxley.com
SUMMARY:Senior Breakfast
DESCRIPTION:
URL:https://www.cityofloxley.com/event/senior-breakfast/2025-04-22/
LOCATION:Loxley Civic Center\, 4198 Municipal Park Dr\,\, Loxley\, AL\, 36551\, United States
CATEGORIES:City,Seniors
END:VEVENT
BEGIN:VEVENT
DTSTART;TZID=America/Chicago:20250421T100000
DTEND;TZID=America/Chicago:20250421T110000
DTSTAMP:20260423T041912
CREATED:20250401T181742Z
LAST-MODIFIED:20250506T212941Z
UID:10000833-1745229600-1745233200@www.cityofloxley.com
SUMMARY:Chair Yoga
DESCRIPTION:
URL:https://www.cityofloxley.com/event/chair-yoga/2025-04-21/
LOCATION:Loxley Civic Center\, 4198 Municipal Park Dr\,\, Loxley\, AL\, 36551\, United States
CATEGORIES:City,Seniors
END:VEVENT
BEGIN:VEVENT
DTSTART;TZID=America/Chicago:20250417T120000
DTEND;TZID=America/Chicago:20250417T150000
DTSTAMP:20260423T041912
CREATED:20250401T181846Z
LAST-MODIFIED:20250506T215114Z
UID:10000822-1744891200-1744902000@www.cityofloxley.com
SUMMARY:Senior Games at BLG#2
DESCRIPTION:
URL:https://www.cityofloxley.com/event/senior-games-at-blg2/2025-04-17/
LOCATION:Loxley Civic Center\, 4198 Municipal Park Dr\,\, Loxley\, AL\, 36551\, United States
CATEGORIES:City,Seniors
END:VEVENT
BEGIN:VEVENT
DTSTART;TZID=America/Chicago:20250417T100000
DTEND;TZID=America/Chicago:20250417T110000
DTSTAMP:20260423T041912
CREATED:20250401T181742Z
LAST-MODIFIED:20250506T212941Z
UID:10000832-1744884000-1744887600@www.cityofloxley.com
SUMMARY:Chair Yoga
DESCRIPTION:
URL:https://www.cityofloxley.com/event/chair-yoga/2025-04-17/
LOCATION:Loxley Civic Center\, 4198 Municipal Park Dr\,\, Loxley\, AL\, 36551\, United States
CATEGORIES:City,Seniors
END:VEVENT
BEGIN:VEVENT
DTSTART;TZID=America/Chicago:20250416T110000
DTEND;TZID=America/Chicago:20250416T130000
DTSTAMP:20260423T041912
CREATED:20250403T064415Z
LAST-MODIFIED:20250403T064415Z
UID:10001612-1744801200-1744808400@www.cityofloxley.com
SUMMARY:Senior Easter Bunny Bingo
DESCRIPTION:Location: Woodland Trace HOA Building #2
URL:https://www.cityofloxley.com/event/senior-easter-bunny-bingo/
LOCATION:AL
CATEGORIES:City,Seniors
END:VEVENT
BEGIN:VEVENT
DTSTART;TZID=America/Chicago:20250415T080000
DTEND;TZID=America/Chicago:20250415T090000
DTSTAMP:20260423T041912
CREATED:20250403T063103Z
LAST-MODIFIED:20250506T213157Z
UID:10001351-1744704000-1744707600@www.cityofloxley.com
SUMMARY:Senior Breakfast
DESCRIPTION:
URL:https://www.cityofloxley.com/event/senior-breakfast/2025-04-15/
LOCATION:Loxley Civic Center\, 4198 Municipal Park Dr\,\, Loxley\, AL\, 36551\, United States
CATEGORIES:City,Seniors
END:VEVENT
BEGIN:VEVENT
DTSTART;TZID=America/Chicago:20250414T100000
DTEND;TZID=America/Chicago:20250414T110000
DTSTAMP:20260423T041912
CREATED:20250401T181742Z
LAST-MODIFIED:20250506T212941Z
UID:10000831-1744624800-1744628400@www.cityofloxley.com
SUMMARY:Chair Yoga
DESCRIPTION:
URL:https://www.cityofloxley.com/event/chair-yoga/2025-04-14/
LOCATION:Loxley Civic Center\, 4198 Municipal Park Dr\,\, Loxley\, AL\, 36551\, United States
CATEGORIES:City,Seniors
END:VEVENT
END:VCALENDAR