BEGIN:VCALENDAR
VERSION:2.0
PRODID:-//City of Loxley - ECPv6.15.20//NONSGML v1.0//EN
CALSCALE:GREGORIAN
METHOD:PUBLISH
X-WR-CALNAME:City of Loxley
X-ORIGINAL-URL:https://www.cityofloxley.com
X-WR-CALDESC:Events for City of Loxley
REFRESH-INTERVAL;VALUE=DURATION:PT1H
X-Robots-Tag:noindex
X-PUBLISHED-TTL:PT1H
BEGIN:VTIMEZONE
TZID:America/Chicago
BEGIN:DAYLIGHT
TZOFFSETFROM:-0600
TZOFFSETTO:-0500
TZNAME:CDT
DTSTART:20240310T080000
END:DAYLIGHT
BEGIN:STANDARD
TZOFFSETFROM:-0500
TZOFFSETTO:-0600
TZNAME:CST
DTSTART:20241103T070000
END:STANDARD
BEGIN:DAYLIGHT
TZOFFSETFROM:-0600
TZOFFSETTO:-0500
TZNAME:CDT
DTSTART:20250309T080000
END:DAYLIGHT
BEGIN:STANDARD
TZOFFSETFROM:-0500
TZOFFSETTO:-0600
TZNAME:CST
DTSTART:20251102T070000
END:STANDARD
BEGIN:DAYLIGHT
TZOFFSETFROM:-0600
TZOFFSETTO:-0500
TZNAME:CDT
DTSTART:20260308T080000
END:DAYLIGHT
BEGIN:STANDARD
TZOFFSETFROM:-0500
TZOFFSETTO:-0600
TZNAME:CST
DTSTART:20261101T070000
END:STANDARD
END:VTIMEZONE
BEGIN:VEVENT
DTSTART;TZID=America/Chicago:20250421T100000
DTEND;TZID=America/Chicago:20250421T110000
DTSTAMP:20260423T072902
CREATED:20250401T181742Z
LAST-MODIFIED:20250506T212941Z
UID:10000833-1745229600-1745233200@www.cityofloxley.com
SUMMARY:Chair Yoga
DESCRIPTION:
URL:https://www.cityofloxley.com/event/chair-yoga/2025-04-21/
LOCATION:Loxley Civic Center\, 4198 Municipal Park Dr\,\, Loxley\, AL\, 36551\, United States
CATEGORIES:City,Seniors
END:VEVENT
BEGIN:VEVENT
DTSTART;TZID=America/Chicago:20250417T120000
DTEND;TZID=America/Chicago:20250417T150000
DTSTAMP:20260423T072902
CREATED:20250401T181846Z
LAST-MODIFIED:20250506T215114Z
UID:10000822-1744891200-1744902000@www.cityofloxley.com
SUMMARY:Senior Games at BLG#2
DESCRIPTION:
URL:https://www.cityofloxley.com/event/senior-games-at-blg2/2025-04-17/
LOCATION:Loxley Civic Center\, 4198 Municipal Park Dr\,\, Loxley\, AL\, 36551\, United States
CATEGORIES:City,Seniors
END:VEVENT
BEGIN:VEVENT
DTSTART;TZID=America/Chicago:20250417T100000
DTEND;TZID=America/Chicago:20250417T110000
DTSTAMP:20260423T072902
CREATED:20250401T181742Z
LAST-MODIFIED:20250506T212941Z
UID:10000832-1744884000-1744887600@www.cityofloxley.com
SUMMARY:Chair Yoga
DESCRIPTION:
URL:https://www.cityofloxley.com/event/chair-yoga/2025-04-17/
LOCATION:Loxley Civic Center\, 4198 Municipal Park Dr\,\, Loxley\, AL\, 36551\, United States
CATEGORIES:City,Seniors
END:VEVENT
BEGIN:VEVENT
DTSTART;TZID=America/Chicago:20250416T110000
DTEND;TZID=America/Chicago:20250416T130000
DTSTAMP:20260423T072902
CREATED:20250403T064415Z
LAST-MODIFIED:20250403T064415Z
UID:10001612-1744801200-1744808400@www.cityofloxley.com
SUMMARY:Senior Easter Bunny Bingo
DESCRIPTION:Location: Woodland Trace HOA Building #2
URL:https://www.cityofloxley.com/event/senior-easter-bunny-bingo/
LOCATION:AL
CATEGORIES:City,Seniors
END:VEVENT
BEGIN:VEVENT
DTSTART;TZID=America/Chicago:20250415T080000
DTEND;TZID=America/Chicago:20250415T090000
DTSTAMP:20260423T072902
CREATED:20250403T063103Z
LAST-MODIFIED:20250506T213157Z
UID:10001351-1744704000-1744707600@www.cityofloxley.com
SUMMARY:Senior Breakfast
DESCRIPTION:
URL:https://www.cityofloxley.com/event/senior-breakfast/2025-04-15/
LOCATION:Loxley Civic Center\, 4198 Municipal Park Dr\,\, Loxley\, AL\, 36551\, United States
CATEGORIES:City,Seniors
END:VEVENT
BEGIN:VEVENT
DTSTART;TZID=America/Chicago:20250414T100000
DTEND;TZID=America/Chicago:20250414T110000
DTSTAMP:20260423T072902
CREATED:20250401T181742Z
LAST-MODIFIED:20250506T212941Z
UID:10000831-1744624800-1744628400@www.cityofloxley.com
SUMMARY:Chair Yoga
DESCRIPTION:
URL:https://www.cityofloxley.com/event/chair-yoga/2025-04-14/
LOCATION:Loxley Civic Center\, 4198 Municipal Park Dr\,\, Loxley\, AL\, 36551\, United States
CATEGORIES:City,Seniors
END:VEVENT
BEGIN:VEVENT
DTSTART;TZID=America/Chicago:20250411T090000
DTEND;TZID=America/Chicago:20250411T100000
DTSTAMP:20260423T072902
CREATED:20250401T182117Z
LAST-MODIFIED:20250506T201736Z
UID:10000814-1744362000-1744365600@www.cityofloxley.com
SUMMARY:Coffee & Tea
DESCRIPTION:
URL:https://www.cityofloxley.com/event/coffee-tea/2025-04-11/
LOCATION:Loxley Civic Center\, 4198 Municipal Park Dr\,\, Loxley\, AL\, 36551\, United States
CATEGORIES:City,Seniors
END:VEVENT
BEGIN:VEVENT
DTSTART;TZID=America/Chicago:20250410T120000
DTEND;TZID=America/Chicago:20250410T150000
DTSTAMP:20260423T072902
CREATED:20250401T181846Z
LAST-MODIFIED:20250506T215114Z
UID:10000821-1744286400-1744297200@www.cityofloxley.com
SUMMARY:Senior Games at BLG#2
DESCRIPTION:
URL:https://www.cityofloxley.com/event/senior-games-at-blg2/2025-04-10/
LOCATION:Loxley Civic Center\, 4198 Municipal Park Dr\,\, Loxley\, AL\, 36551\, United States
CATEGORIES:City,Seniors
END:VEVENT
BEGIN:VEVENT
DTSTART;TZID=America/Chicago:20250410T100000
DTEND;TZID=America/Chicago:20250410T110000
DTSTAMP:20260423T072902
CREATED:20250401T181742Z
LAST-MODIFIED:20250506T212941Z
UID:10000830-1744279200-1744282800@www.cityofloxley.com
SUMMARY:Chair Yoga
DESCRIPTION:
URL:https://www.cityofloxley.com/event/chair-yoga/2025-04-10/
LOCATION:Loxley Civic Center\, 4198 Municipal Park Dr\,\, Loxley\, AL\, 36551\, United States
CATEGORIES:City,Seniors
END:VEVENT
BEGIN:VEVENT
DTSTART;TZID=America/Chicago:20250409T120000
DTEND;TZID=America/Chicago:20250409T140000
DTSTAMP:20260423T072902
CREATED:20250403T064001Z
LAST-MODIFIED:20250403T064441Z
UID:10001611-1744200000-1744207200@www.cityofloxley.com
SUMMARY:Senior Lunch Trip
DESCRIPTION:Oyster House – Spanish Fort \nMust sign up to attend.
URL:https://www.cityofloxley.com/event/senior-lunch-trip/
LOCATION:AL
CATEGORIES:City,Seniors
END:VEVENT
BEGIN:VEVENT
DTSTART;TZID=America/Chicago:20250408T080000
DTEND;TZID=America/Chicago:20250408T090000
DTSTAMP:20260423T072902
CREATED:20250403T063103Z
LAST-MODIFIED:20250506T213157Z
UID:10001350-1744099200-1744102800@www.cityofloxley.com
SUMMARY:Senior Breakfast
DESCRIPTION:
URL:https://www.cityofloxley.com/event/senior-breakfast/2025-04-08/
LOCATION:Loxley Civic Center\, 4198 Municipal Park Dr\,\, Loxley\, AL\, 36551\, United States
CATEGORIES:City,Seniors
END:VEVENT
BEGIN:VEVENT
DTSTART;TZID=America/Chicago:20250407T100000
DTEND;TZID=America/Chicago:20250407T110000
DTSTAMP:20260423T072902
CREATED:20250401T181742Z
LAST-MODIFIED:20250506T212941Z
UID:10000829-1744020000-1744023600@www.cityofloxley.com
SUMMARY:Chair Yoga
DESCRIPTION:
URL:https://www.cityofloxley.com/event/chair-yoga/2025-04-07/
LOCATION:Loxley Civic Center\, 4198 Municipal Park Dr\,\, Loxley\, AL\, 36551\, United States
CATEGORIES:City,Seniors
END:VEVENT
BEGIN:VEVENT
DTSTART;TZID=America/Chicago:20250404T090000
DTEND;TZID=America/Chicago:20250404T100000
DTSTAMP:20260423T072902
CREATED:20250401T182117Z
LAST-MODIFIED:20250506T201736Z
UID:10000813-1743757200-1743760800@www.cityofloxley.com
SUMMARY:Coffee & Tea
DESCRIPTION:
URL:https://www.cityofloxley.com/event/coffee-tea/2025-04-04/
LOCATION:Loxley Civic Center\, 4198 Municipal Park Dr\,\, Loxley\, AL\, 36551\, United States
CATEGORIES:City,Seniors
END:VEVENT
BEGIN:VEVENT
DTSTART;TZID=America/Chicago:20250403T120000
DTEND;TZID=America/Chicago:20250403T150000
DTSTAMP:20260423T072902
CREATED:20250401T181846Z
LAST-MODIFIED:20250506T215114Z
UID:10000812-1743681600-1743692400@www.cityofloxley.com
SUMMARY:Senior Games at BLG#2
DESCRIPTION:
URL:https://www.cityofloxley.com/event/senior-games-at-blg2/2025-04-03/
LOCATION:Loxley Civic Center\, 4198 Municipal Park Dr\,\, Loxley\, AL\, 36551\, United States
CATEGORIES:City,Seniors
END:VEVENT
BEGIN:VEVENT
DTSTART;TZID=America/Chicago:20250403T100000
DTEND;TZID=America/Chicago:20250403T110000
DTSTAMP:20260423T072902
CREATED:20250401T181742Z
LAST-MODIFIED:20250506T212941Z
UID:10000811-1743674400-1743678000@www.cityofloxley.com
SUMMARY:Chair Yoga
DESCRIPTION:
URL:https://www.cityofloxley.com/event/chair-yoga/2025-04-03/
LOCATION:Loxley Civic Center\, 4198 Municipal Park Dr\,\, Loxley\, AL\, 36551\, United States
CATEGORIES:City,Seniors
END:VEVENT
BEGIN:VEVENT
DTSTART;TZID=America/Chicago:20250401T080000
DTEND;TZID=America/Chicago:20250401T090000
DTSTAMP:20260423T072902
CREATED:20250403T063103Z
LAST-MODIFIED:20250506T213157Z
UID:10001615-1743494400-1743498000@www.cityofloxley.com
SUMMARY:Senior Breakfast
DESCRIPTION:
URL:https://www.cityofloxley.com/event/senior-breakfast/2025-04-01/
LOCATION:Loxley Civic Center\, 4198 Municipal Park Dr\,\, Loxley\, AL\, 36551\, United States
CATEGORIES:City,Seniors
END:VEVENT
END:VCALENDAR