BEGIN:VCALENDAR
VERSION:2.0
PRODID:-//City of Loxley - ECPv6.15.20//NONSGML v1.0//EN
CALSCALE:GREGORIAN
METHOD:PUBLISH
X-ORIGINAL-URL:https://www.cityofloxley.com
X-WR-CALDESC:Events for City of Loxley
REFRESH-INTERVAL;VALUE=DURATION:PT1H
X-Robots-Tag:noindex
X-PUBLISHED-TTL:PT1H
BEGIN:VTIMEZONE
TZID:America/Chicago
BEGIN:DAYLIGHT
TZOFFSETFROM:-0600
TZOFFSETTO:-0500
TZNAME:CDT
DTSTART:20250309T080000
END:DAYLIGHT
BEGIN:STANDARD
TZOFFSETFROM:-0500
TZOFFSETTO:-0600
TZNAME:CST
DTSTART:20251102T070000
END:STANDARD
BEGIN:DAYLIGHT
TZOFFSETFROM:-0600
TZOFFSETTO:-0500
TZNAME:CDT
DTSTART:20260308T080000
END:DAYLIGHT
BEGIN:STANDARD
TZOFFSETFROM:-0500
TZOFFSETTO:-0600
TZNAME:CST
DTSTART:20261101T070000
END:STANDARD
BEGIN:DAYLIGHT
TZOFFSETFROM:-0600
TZOFFSETTO:-0500
TZNAME:CDT
DTSTART:20270314T080000
END:DAYLIGHT
BEGIN:STANDARD
TZOFFSETFROM:-0500
TZOFFSETTO:-0600
TZNAME:CST
DTSTART:20271107T070000
END:STANDARD
END:VTIMEZONE
BEGIN:VEVENT
DTSTART;TZID=America/Chicago:20260217T080000
DTEND;TZID=America/Chicago:20260217T090000
DTSTAMP:20260422T054628
CREATED:20260211T002153Z
LAST-MODIFIED:20260211T035728Z
UID:10002444-1771315200-1771318800@www.cityofloxley.com
SUMMARY:Breakfast
DESCRIPTION:Our buffet-style breakfast is served on Tuesdays at 8:00 AM. Our friends from the DAV will be joining us the first Tuesday of each month.
URL:https://www.cityofloxley.com/event/breakfast-2-2-2/2026-02-17/
LOCATION:Loxley Civic Center\, 4198 Municipal Park Dr\,\, Loxley\, AL\, 36551\, United States
CATEGORIES:Seniors
END:VEVENT
BEGIN:VEVENT
DTSTART;TZID=America/Chicago:20260216T100000
DTEND;TZID=America/Chicago:20260216T110000
DTSTAMP:20260422T054628
CREATED:20260210T195955Z
LAST-MODIFIED:20260318T215825Z
UID:10002418-1771236000-1771239600@www.cityofloxley.com
SUMMARY:Exercise
DESCRIPTION:Mondays and Thursdays at 10:00 AM.
URL:https://www.cityofloxley.com/event/exercise-2-2/2026-02-16/
LOCATION:Loxley Civic Center\, 4198 Municipal Park Dr\,\, Loxley\, AL\, 36551\, United States
CATEGORIES:Seniors
END:VEVENT
BEGIN:VEVENT
DTSTART;VALUE=DATE:20260216
DTEND;VALUE=DATE:20260217
DTSTAMP:20260422T054628
CREATED:20260112T230722Z
LAST-MODIFIED:20260112T231020Z
UID:10002391-1771200000-1771286399@www.cityofloxley.com
SUMMARY:Civic Center Closed
DESCRIPTION:
URL:https://www.cityofloxley.com/event/civic-center-closed-4/
LOCATION:Loxley Civic Center\, 4198 Municipal Park Dr\,\, Loxley\, AL\, 36551\, United States
CATEGORIES:Seniors
END:VEVENT
BEGIN:VEVENT
DTSTART;TZID=America/Chicago:20260212T120000
DTEND;TZID=America/Chicago:20260212T150000
DTSTAMP:20260422T054628
CREATED:20250721T160814Z
LAST-MODIFIED:20260318T215943Z
UID:10002379-1770897600-1770908400@www.cityofloxley.com
SUMMARY:Games
DESCRIPTION:A group gets together at the Community Center to play games on Thursdays from 12:00-3:00 PM.
URL:https://www.cityofloxley.com/event/games/2026-02-12/
LOCATION:Loxley Community Center\, 2131 E Relham Dr\, Loxley\, 36551\, United States
CATEGORIES:Seniors
END:VEVENT
BEGIN:VEVENT
DTSTART;TZID=America/Chicago:20260212T100000
DTEND;TZID=America/Chicago:20260212T110000
DTSTAMP:20260422T054628
CREATED:20260210T195955Z
LAST-MODIFIED:20260318T215825Z
UID:10002368-1770890400-1770894000@www.cityofloxley.com
SUMMARY:Exercise
DESCRIPTION:Mondays and Thursdays at 10:00 AM.
URL:https://www.cityofloxley.com/event/exercise-2-2/2026-02-12/
LOCATION:Loxley Civic Center\, 4198 Municipal Park Dr\,\, Loxley\, AL\, 36551\, United States
CATEGORIES:Seniors
END:VEVENT
BEGIN:VEVENT
DTSTART;TZID=America/Chicago:20260212T090000
DTEND;TZID=America/Chicago:20260212T100000
DTSTAMP:20260422T054628
CREATED:20251023T071139Z
LAST-MODIFIED:20260318T215728Z
UID:10002376-1770886800-1770890400@www.cityofloxley.com
SUMMARY:YMCA
DESCRIPTION:
URL:https://www.cityofloxley.com/event/ymca/2026-02-12/
LOCATION:AL
CATEGORIES:Seniors
END:VEVENT
BEGIN:VEVENT
DTSTART;TZID=America/Chicago:20260211T120000
DTEND;TZID=America/Chicago:20260211T120000
DTSTAMP:20260422T054628
CREATED:20260112T225837Z
LAST-MODIFIED:20260112T225837Z
UID:10002384-1770811200-1770811200@www.cityofloxley.com
SUMMARY:Mardi Gras Ball - TICKET ONLY
DESCRIPTION:
URL:https://www.cityofloxley.com/event/mardi-gras-ball-ticket-only/
LOCATION:AL
CATEGORIES:Seniors
END:VEVENT
BEGIN:VEVENT
DTSTART;TZID=America/Chicago:20260210T080000
DTEND;TZID=America/Chicago:20260210T090000
DTSTAMP:20260422T054628
CREATED:20251023T072851Z
LAST-MODIFIED:20260112T225215Z
UID:10002373-1770710400-1770714000@www.cityofloxley.com
SUMMARY:Breakfast
DESCRIPTION:Our buffet-style breakfast is served on Tuesdays at 8:00 AM. Our friends from the DAV will be joining us the first Tuesday of each month.
URL:https://www.cityofloxley.com/event/breakfast-2/2026-02-10/
LOCATION:Loxley Civic Center\, 4198 Municipal Park Dr\,\, Loxley\, AL\, 36551\, United States
CATEGORIES:Seniors
END:VEVENT
BEGIN:VEVENT
DTSTART;TZID=America/Chicago:20260205T120000
DTEND;TZID=America/Chicago:20260205T150000
DTSTAMP:20260422T054628
CREATED:20250721T160814Z
LAST-MODIFIED:20260318T215943Z
UID:10002359-1770292800-1770303600@www.cityofloxley.com
SUMMARY:Games
DESCRIPTION:A group gets together at the Community Center to play games on Thursdays from 12:00-3:00 PM.
URL:https://www.cityofloxley.com/event/games/2026-02-05/
LOCATION:Loxley Community Center\, 2131 E Relham Dr\, Loxley\, 36551\, United States
CATEGORIES:Seniors
END:VEVENT
BEGIN:VEVENT
DTSTART;TZID=America/Chicago:20260205T100000
DTEND;TZID=America/Chicago:20260205T110000
DTSTAMP:20260422T054628
CREATED:20251023T072926Z
LAST-MODIFIED:20260210T195824Z
UID:10002366-1770285600-1770289200@www.cityofloxley.com
SUMMARY:Exercise
DESCRIPTION:Mondays and Thursdays at 10:00 AM.
URL:https://www.cityofloxley.com/event/exercise-2/2026-02-05/
LOCATION:Loxley Civic Center\, 4198 Municipal Park Dr\,\, Loxley\, AL\, 36551\, United States
CATEGORIES:Seniors
END:VEVENT
BEGIN:VEVENT
DTSTART;TZID=America/Chicago:20260205T090000
DTEND;TZID=America/Chicago:20260205T100000
DTSTAMP:20260422T054628
CREATED:20251023T071139Z
LAST-MODIFIED:20260318T215728Z
UID:10002354-1770282000-1770285600@www.cityofloxley.com
SUMMARY:YMCA
DESCRIPTION:
URL:https://www.cityofloxley.com/event/ymca/2026-02-05/
LOCATION:AL
CATEGORIES:Seniors
END:VEVENT
BEGIN:VEVENT
DTSTART;TZID=America/Chicago:20260204T130000
DTEND;TZID=America/Chicago:20260204T130000
DTSTAMP:20260422T054628
CREATED:20251208T194354Z
LAST-MODIFIED:20260112T225749Z
UID:10002383-1770210000-1770210000@www.cityofloxley.com
SUMMARY:Birthday Party
DESCRIPTION:
URL:https://www.cityofloxley.com/event/birthday-party-4/2026-02-04/
LOCATION:Loxley Civic Center\, 4198 Municipal Park Dr\,\, Loxley\, AL\, 36551\, United States
CATEGORIES:Seniors
END:VEVENT
BEGIN:VEVENT
DTSTART;TZID=America/Chicago:20260203T080000
DTEND;TZID=America/Chicago:20260203T090000
DTSTAMP:20260422T054628
CREATED:20251023T072851Z
LAST-MODIFIED:20260112T225215Z
UID:10002349-1770105600-1770109200@www.cityofloxley.com
SUMMARY:Breakfast
DESCRIPTION:Our buffet-style breakfast is served on Tuesdays at 8:00 AM. Our friends from the DAV will be joining us the first Tuesday of each month.
URL:https://www.cityofloxley.com/event/breakfast-2/2026-02-03/
LOCATION:Loxley Civic Center\, 4198 Municipal Park Dr\,\, Loxley\, AL\, 36551\, United States
CATEGORIES:Seniors
END:VEVENT
BEGIN:VEVENT
DTSTART;TZID=America/Chicago:20260129T120000
DTEND;TZID=America/Chicago:20260129T150000
DTSTAMP:20260422T054628
CREATED:20250721T160814Z
LAST-MODIFIED:20260318T215943Z
UID:10002358-1769688000-1769698800@www.cityofloxley.com
SUMMARY:Games
DESCRIPTION:A group gets together at the Community Center to play games on Thursdays from 12:00-3:00 PM.
URL:https://www.cityofloxley.com/event/games/2026-01-29/
LOCATION:Loxley Community Center\, 2131 E Relham Dr\, Loxley\, 36551\, United States
CATEGORIES:Seniors
END:VEVENT
BEGIN:VEVENT
DTSTART;TZID=America/Chicago:20260129T100000
DTEND;TZID=America/Chicago:20260129T110000
DTSTAMP:20260422T054628
CREATED:20251023T072926Z
LAST-MODIFIED:20260210T195824Z
UID:10002339-1769680800-1769684400@www.cityofloxley.com
SUMMARY:Exercise
DESCRIPTION:Mondays and Thursdays at 10:00 AM.
URL:https://www.cityofloxley.com/event/exercise-2/2026-01-29/
LOCATION:Loxley Civic Center\, 4198 Municipal Park Dr\,\, Loxley\, AL\, 36551\, United States
CATEGORIES:Seniors
END:VEVENT
BEGIN:VEVENT
DTSTART;TZID=America/Chicago:20260129T090000
DTEND;TZID=America/Chicago:20260129T100000
DTSTAMP:20260422T054628
CREATED:20251023T071139Z
LAST-MODIFIED:20260318T215728Z
UID:10002353-1769677200-1769680800@www.cityofloxley.com
SUMMARY:YMCA
DESCRIPTION:
URL:https://www.cityofloxley.com/event/ymca/2026-01-29/
LOCATION:AL
CATEGORIES:Seniors
END:VEVENT
BEGIN:VEVENT
DTSTART;TZID=America/Chicago:20260128T120000
DTEND;TZID=America/Chicago:20260128T120000
DTSTAMP:20260422T054628
CREATED:20250721T153959Z
LAST-MODIFIED:20251209T052130Z
UID:10001998-1769601600-1769601600@www.cityofloxley.com
SUMMARY:Potluck Lunch
DESCRIPTION:
URL:https://www.cityofloxley.com/event/potluck-lunch-3/2026-01-28/
LOCATION:Loxley Civic Center\, 4198 Municipal Park Dr\,\, Loxley\, AL\, 36551\, United States
CATEGORIES:Seniors
END:VEVENT
BEGIN:VEVENT
DTSTART;TZID=America/Chicago:20260127T080000
DTEND;TZID=America/Chicago:20260127T090000
DTSTAMP:20260422T054628
CREATED:20251023T072851Z
LAST-MODIFIED:20260112T225215Z
UID:10002348-1769500800-1769504400@www.cityofloxley.com
SUMMARY:Breakfast
DESCRIPTION:Our buffet-style breakfast is served on Tuesdays at 8:00 AM. Our friends from the DAV will be joining us the first Tuesday of each month.
URL:https://www.cityofloxley.com/event/breakfast-2/2026-01-27/
LOCATION:Loxley Civic Center\, 4198 Municipal Park Dr\,\, Loxley\, AL\, 36551\, United States
CATEGORIES:Seniors
END:VEVENT
BEGIN:VEVENT
DTSTART;TZID=America/Chicago:20260122T120000
DTEND;TZID=America/Chicago:20260122T150000
DTSTAMP:20260422T054628
CREATED:20250721T160814Z
LAST-MODIFIED:20260318T215943Z
UID:10002357-1769083200-1769094000@www.cityofloxley.com
SUMMARY:Games
DESCRIPTION:A group gets together at the Community Center to play games on Thursdays from 12:00-3:00 PM.
URL:https://www.cityofloxley.com/event/games/2026-01-22/
LOCATION:Loxley Community Center\, 2131 E Relham Dr\, Loxley\, 36551\, United States
CATEGORIES:Seniors
END:VEVENT
BEGIN:VEVENT
DTSTART;TZID=America/Chicago:20260122T100000
DTEND;TZID=America/Chicago:20260122T110000
DTSTAMP:20260422T054628
CREATED:20251023T072926Z
LAST-MODIFIED:20260210T195824Z
UID:10002337-1769076000-1769079600@www.cityofloxley.com
SUMMARY:Exercise
DESCRIPTION:Mondays and Thursdays at 10:00 AM.
URL:https://www.cityofloxley.com/event/exercise-2/2026-01-22/
LOCATION:Loxley Civic Center\, 4198 Municipal Park Dr\,\, Loxley\, AL\, 36551\, United States
CATEGORIES:Seniors
END:VEVENT
BEGIN:VEVENT
DTSTART;TZID=America/Chicago:20260122T090000
DTEND;TZID=America/Chicago:20260122T100000
DTSTAMP:20260422T054628
CREATED:20251023T071139Z
LAST-MODIFIED:20260318T215728Z
UID:10002352-1769072400-1769076000@www.cityofloxley.com
SUMMARY:YMCA
DESCRIPTION:
URL:https://www.cityofloxley.com/event/ymca/2026-01-22/
LOCATION:AL
CATEGORIES:Seniors
END:VEVENT
BEGIN:VEVENT
DTSTART;TZID=America/Chicago:20260121T100000
DTEND;TZID=America/Chicago:20260121T100000
DTSTAMP:20260422T054628
CREATED:20251211T214330Z
LAST-MODIFIED:20251211T214330Z
UID:10002363-1768989600-1768989600@www.cityofloxley.com
SUMMARY:Movie Day
DESCRIPTION:
URL:https://www.cityofloxley.com/event/movie-day-2/
LOCATION:Loxley Civic Center\, 4198 Municipal Park Dr\,\, Loxley\, AL\, 36551\, United States
CATEGORIES:Seniors
END:VEVENT
BEGIN:VEVENT
DTSTART;TZID=America/Chicago:20260120T080000
DTEND;TZID=America/Chicago:20260120T090000
DTSTAMP:20260422T054628
CREATED:20251023T072851Z
LAST-MODIFIED:20260112T225215Z
UID:10002347-1768896000-1768899600@www.cityofloxley.com
SUMMARY:Breakfast
DESCRIPTION:Our buffet-style breakfast is served on Tuesdays at 8:00 AM. Our friends from the DAV will be joining us the first Tuesday of each month.
URL:https://www.cityofloxley.com/event/breakfast-2/2026-01-20/
LOCATION:Loxley Civic Center\, 4198 Municipal Park Dr\,\, Loxley\, AL\, 36551\, United States
CATEGORIES:Seniors
END:VEVENT
BEGIN:VEVENT
DTSTART;VALUE=DATE:20260119
DTEND;VALUE=DATE:20260120
DTSTAMP:20260422T054628
CREATED:20251211T214128Z
LAST-MODIFIED:20251211T214128Z
UID:10002360-1768780800-1768867199@www.cityofloxley.com
SUMMARY:Civic Center Closed
DESCRIPTION:No Activities.
URL:https://www.cityofloxley.com/event/civic-center-closed-3/
LOCATION:AL
CATEGORIES:Seniors
END:VEVENT
BEGIN:VEVENT
DTSTART;TZID=America/Chicago:20260115T120000
DTEND;TZID=America/Chicago:20260115T150000
DTSTAMP:20260422T054628
CREATED:20250721T160814Z
LAST-MODIFIED:20260318T215943Z
UID:10002356-1768478400-1768489200@www.cityofloxley.com
SUMMARY:Games
DESCRIPTION:A group gets together at the Community Center to play games on Thursdays from 12:00-3:00 PM.
URL:https://www.cityofloxley.com/event/games/2026-01-15/
LOCATION:Loxley Community Center\, 2131 E Relham Dr\, Loxley\, 36551\, United States
CATEGORIES:Seniors
END:VEVENT
BEGIN:VEVENT
DTSTART;TZID=America/Chicago:20260115T100000
DTEND;TZID=America/Chicago:20260115T110000
DTSTAMP:20260422T054628
CREATED:20251023T072926Z
LAST-MODIFIED:20260210T195824Z
UID:10002335-1768471200-1768474800@www.cityofloxley.com
SUMMARY:Exercise
DESCRIPTION:Mondays and Thursdays at 10:00 AM.
URL:https://www.cityofloxley.com/event/exercise-2/2026-01-15/
LOCATION:Loxley Civic Center\, 4198 Municipal Park Dr\,\, Loxley\, AL\, 36551\, United States
CATEGORIES:Seniors
END:VEVENT
BEGIN:VEVENT
DTSTART;TZID=America/Chicago:20260115T090000
DTEND;TZID=America/Chicago:20260115T100000
DTSTAMP:20260422T054628
CREATED:20251023T071139Z
LAST-MODIFIED:20260318T215728Z
UID:10002351-1768467600-1768471200@www.cityofloxley.com
SUMMARY:YMCA
DESCRIPTION:
URL:https://www.cityofloxley.com/event/ymca/2026-01-15/
LOCATION:AL
CATEGORIES:Seniors
END:VEVENT
BEGIN:VEVENT
DTSTART;TZID=America/Chicago:20260113T080000
DTEND;TZID=America/Chicago:20260113T090000
DTSTAMP:20260422T054628
CREATED:20251023T072851Z
LAST-MODIFIED:20260112T225215Z
UID:10002346-1768291200-1768294800@www.cityofloxley.com
SUMMARY:Breakfast
DESCRIPTION:Our buffet-style breakfast is served on Tuesdays at 8:00 AM. Our friends from the DAV will be joining us the first Tuesday of each month.
URL:https://www.cityofloxley.com/event/breakfast-2/2026-01-13/
LOCATION:Loxley Civic Center\, 4198 Municipal Park Dr\,\, Loxley\, AL\, 36551\, United States
CATEGORIES:Seniors
END:VEVENT
BEGIN:VEVENT
DTSTART;TZID=America/Chicago:20260108T120000
DTEND;TZID=America/Chicago:20260108T150000
DTSTAMP:20260422T054628
CREATED:20250721T160814Z
LAST-MODIFIED:20260318T215943Z
UID:10002355-1767873600-1767884400@www.cityofloxley.com
SUMMARY:Games
DESCRIPTION:A group gets together at the Community Center to play games on Thursdays from 12:00-3:00 PM.
URL:https://www.cityofloxley.com/event/games/2026-01-08/
LOCATION:Loxley Community Center\, 2131 E Relham Dr\, Loxley\, 36551\, United States
CATEGORIES:Seniors
END:VEVENT
BEGIN:VEVENT
DTSTART;TZID=America/Chicago:20260108T100000
DTEND;TZID=America/Chicago:20260108T110000
DTSTAMP:20260422T054628
CREATED:20251023T072926Z
LAST-MODIFIED:20260210T195824Z
UID:10002333-1767866400-1767870000@www.cityofloxley.com
SUMMARY:Exercise
DESCRIPTION:Mondays and Thursdays at 10:00 AM.
URL:https://www.cityofloxley.com/event/exercise-2/2026-01-08/
LOCATION:Loxley Civic Center\, 4198 Municipal Park Dr\,\, Loxley\, AL\, 36551\, United States
CATEGORIES:Seniors
END:VEVENT
END:VCALENDAR