BEGIN:VCALENDAR
VERSION:2.0
PRODID:-//City of Loxley - ECPv6.15.20//NONSGML v1.0//EN
CALSCALE:GREGORIAN
METHOD:PUBLISH
X-ORIGINAL-URL:https://www.cityofloxley.com
X-WR-CALDESC:Events for City of Loxley
REFRESH-INTERVAL;VALUE=DURATION:PT1H
X-Robots-Tag:noindex
X-PUBLISHED-TTL:PT1H
BEGIN:VTIMEZONE
TZID:America/Chicago
BEGIN:DAYLIGHT
TZOFFSETFROM:-0600
TZOFFSETTO:-0500
TZNAME:CDT
DTSTART:20240310T080000
END:DAYLIGHT
BEGIN:STANDARD
TZOFFSETFROM:-0500
TZOFFSETTO:-0600
TZNAME:CST
DTSTART:20241103T070000
END:STANDARD
BEGIN:DAYLIGHT
TZOFFSETFROM:-0600
TZOFFSETTO:-0500
TZNAME:CDT
DTSTART:20250309T080000
END:DAYLIGHT
BEGIN:STANDARD
TZOFFSETFROM:-0500
TZOFFSETTO:-0600
TZNAME:CST
DTSTART:20251102T070000
END:STANDARD
BEGIN:DAYLIGHT
TZOFFSETFROM:-0600
TZOFFSETTO:-0500
TZNAME:CDT
DTSTART:20260308T080000
END:DAYLIGHT
BEGIN:STANDARD
TZOFFSETFROM:-0500
TZOFFSETTO:-0600
TZNAME:CST
DTSTART:20261101T070000
END:STANDARD
BEGIN:DAYLIGHT
TZOFFSETFROM:-0600
TZOFFSETTO:-0500
TZNAME:CDT
DTSTART:20270314T080000
END:DAYLIGHT
BEGIN:STANDARD
TZOFFSETFROM:-0500
TZOFFSETTO:-0600
TZNAME:CST
DTSTART:20271107T070000
END:STANDARD
END:VTIMEZONE
BEGIN:VEVENT
DTSTART;TZID=America/Chicago:20260115T120000
DTEND;TZID=America/Chicago:20260115T150000
DTSTAMP:20260422T085016
CREATED:20250721T160814Z
LAST-MODIFIED:20260318T215943Z
UID:10002356-1768478400-1768489200@www.cityofloxley.com
SUMMARY:Games
DESCRIPTION:A group gets together at the Community Center to play games on Thursdays from 12:00-3:00 PM.
URL:https://www.cityofloxley.com/event/games/2026-01-15/
LOCATION:Loxley Community Center\, 2131 E Relham Dr\, Loxley\, 36551\, United States
CATEGORIES:Seniors
END:VEVENT
BEGIN:VEVENT
DTSTART;TZID=America/Chicago:20260115T100000
DTEND;TZID=America/Chicago:20260115T110000
DTSTAMP:20260422T085016
CREATED:20251023T072926Z
LAST-MODIFIED:20260210T195824Z
UID:10002335-1768471200-1768474800@www.cityofloxley.com
SUMMARY:Exercise
DESCRIPTION:Mondays and Thursdays at 10:00 AM.
URL:https://www.cityofloxley.com/event/exercise-2/2026-01-15/
LOCATION:Loxley Civic Center\, 4198 Municipal Park Dr\,\, Loxley\, AL\, 36551\, United States
CATEGORIES:Seniors
END:VEVENT
BEGIN:VEVENT
DTSTART;TZID=America/Chicago:20260115T090000
DTEND;TZID=America/Chicago:20260115T100000
DTSTAMP:20260422T085016
CREATED:20251023T071139Z
LAST-MODIFIED:20260318T215728Z
UID:10002351-1768467600-1768471200@www.cityofloxley.com
SUMMARY:YMCA
DESCRIPTION:
URL:https://www.cityofloxley.com/event/ymca/2026-01-15/
LOCATION:AL
CATEGORIES:Seniors
END:VEVENT
BEGIN:VEVENT
DTSTART;TZID=America/Chicago:20260113T080000
DTEND;TZID=America/Chicago:20260113T090000
DTSTAMP:20260422T085016
CREATED:20251023T072851Z
LAST-MODIFIED:20260112T225215Z
UID:10002346-1768291200-1768294800@www.cityofloxley.com
SUMMARY:Breakfast
DESCRIPTION:Our buffet-style breakfast is served on Tuesdays at 8:00 AM. Our friends from the DAV will be joining us the first Tuesday of each month.
URL:https://www.cityofloxley.com/event/breakfast-2/2026-01-13/
LOCATION:Loxley Civic Center\, 4198 Municipal Park Dr\,\, Loxley\, AL\, 36551\, United States
CATEGORIES:Seniors
END:VEVENT
BEGIN:VEVENT
DTSTART;TZID=America/Chicago:20260108T120000
DTEND;TZID=America/Chicago:20260108T150000
DTSTAMP:20260422T085016
CREATED:20250721T160814Z
LAST-MODIFIED:20260318T215943Z
UID:10002355-1767873600-1767884400@www.cityofloxley.com
SUMMARY:Games
DESCRIPTION:A group gets together at the Community Center to play games on Thursdays from 12:00-3:00 PM.
URL:https://www.cityofloxley.com/event/games/2026-01-08/
LOCATION:Loxley Community Center\, 2131 E Relham Dr\, Loxley\, 36551\, United States
CATEGORIES:Seniors
END:VEVENT
BEGIN:VEVENT
DTSTART;TZID=America/Chicago:20260108T100000
DTEND;TZID=America/Chicago:20260108T110000
DTSTAMP:20260422T085016
CREATED:20251023T072926Z
LAST-MODIFIED:20260210T195824Z
UID:10002333-1767866400-1767870000@www.cityofloxley.com
SUMMARY:Exercise
DESCRIPTION:Mondays and Thursdays at 10:00 AM.
URL:https://www.cityofloxley.com/event/exercise-2/2026-01-08/
LOCATION:Loxley Civic Center\, 4198 Municipal Park Dr\,\, Loxley\, AL\, 36551\, United States
CATEGORIES:Seniors
END:VEVENT
BEGIN:VEVENT
DTSTART;TZID=America/Chicago:20260108T090000
DTEND;TZID=America/Chicago:20260108T100000
DTSTAMP:20260422T085016
CREATED:20251023T071139Z
LAST-MODIFIED:20260318T215728Z
UID:10002350-1767862800-1767866400@www.cityofloxley.com
SUMMARY:YMCA
DESCRIPTION:
URL:https://www.cityofloxley.com/event/ymca/2026-01-08/
LOCATION:AL
CATEGORIES:Seniors
END:VEVENT
BEGIN:VEVENT
DTSTART;TZID=America/Chicago:20260107T103000
DTEND;TZID=America/Chicago:20260107T103000
DTSTAMP:20260422T085016
CREATED:20251211T214216Z
LAST-MODIFIED:20251211T214216Z
UID:10002361-1767781800-1767781800@www.cityofloxley.com
SUMMARY:Lunch Trip
DESCRIPTION:Cici’s pizza in Daphne.
URL:https://www.cityofloxley.com/event/lunch-trip/
LOCATION:AL
CATEGORIES:Seniors
END:VEVENT
BEGIN:VEVENT
DTSTART;TZID=America/Chicago:20260106T080000
DTEND;TZID=America/Chicago:20260106T090000
DTSTAMP:20260422T085016
CREATED:20251023T072851Z
LAST-MODIFIED:20260112T225215Z
UID:10002345-1767686400-1767690000@www.cityofloxley.com
SUMMARY:Breakfast
DESCRIPTION:Our buffet-style breakfast is served on Tuesdays at 8:00 AM. Our friends from the DAV will be joining us the first Tuesday of each month.
URL:https://www.cityofloxley.com/event/breakfast-2/2026-01-06/
LOCATION:Loxley Civic Center\, 4198 Municipal Park Dr\,\, Loxley\, AL\, 36551\, United States
CATEGORIES:Seniors
END:VEVENT
BEGIN:VEVENT
DTSTART;TZID=America/Chicago:20260101T100000
DTEND;TZID=America/Chicago:20260101T110000
DTSTAMP:20260422T085016
CREATED:20251023T072926Z
LAST-MODIFIED:20260210T195824Z
UID:10002414-1767261600-1767265200@www.cityofloxley.com
SUMMARY:Exercise
DESCRIPTION:Mondays and Thursdays at 10:00 AM.
URL:https://www.cityofloxley.com/event/exercise-2/2026-01-01/
LOCATION:Loxley Civic Center\, 4198 Municipal Park Dr\,\, Loxley\, AL\, 36551\, United States
CATEGORIES:Seniors
END:VEVENT
BEGIN:VEVENT
DTSTART;TZID=America/Chicago:20251225T100000
DTEND;TZID=America/Chicago:20251225T110000
DTSTAMP:20260422T085016
CREATED:20251023T072926Z
LAST-MODIFIED:20260210T195824Z
UID:10002413-1766656800-1766660400@www.cityofloxley.com
SUMMARY:Exercise
DESCRIPTION:Mondays and Thursdays at 10:00 AM.
URL:https://www.cityofloxley.com/event/exercise-2/2025-12-25/
LOCATION:Loxley Civic Center\, 4198 Municipal Park Dr\,\, Loxley\, AL\, 36551\, United States
CATEGORIES:Seniors
END:VEVENT
BEGIN:VEVENT
DTSTART;VALUE=DATE:20251222
DTEND;VALUE=DATE:20260103
DTSTAMP:20260422T085016
CREATED:20251208T194811Z
LAST-MODIFIED:20251208T194811Z
UID:10002326-1766361600-1767398399@www.cityofloxley.com
SUMMARY:No Activities
DESCRIPTION:
URL:https://www.cityofloxley.com/event/no-activities-2/
LOCATION:AL
CATEGORIES:Seniors
END:VEVENT
BEGIN:VEVENT
DTSTART;TZID=America/Chicago:20251218T120000
DTEND;TZID=America/Chicago:20251218T150000
DTSTAMP:20260422T085016
CREATED:20250721T160814Z
LAST-MODIFIED:20260318T215943Z
UID:10002322-1766059200-1766070000@www.cityofloxley.com
SUMMARY:Games
DESCRIPTION:A group gets together at the Community Center to play games on Thursdays from 12:00-3:00 PM.
URL:https://www.cityofloxley.com/event/games/2025-12-18/
LOCATION:Loxley Community Center\, 2131 E Relham Dr\, Loxley\, 36551\, United States
CATEGORIES:Seniors
END:VEVENT
BEGIN:VEVENT
DTSTART;TZID=America/Chicago:20251218T100000
DTEND;TZID=America/Chicago:20251218T110000
DTSTAMP:20260422T085016
CREATED:20251023T072926Z
LAST-MODIFIED:20260210T195824Z
UID:10002314-1766052000-1766055600@www.cityofloxley.com
SUMMARY:Exercise
DESCRIPTION:Mondays and Thursdays at 10:00 AM.
URL:https://www.cityofloxley.com/event/exercise-2/2025-12-18/
LOCATION:Loxley Civic Center\, 4198 Municipal Park Dr\,\, Loxley\, AL\, 36551\, United States
CATEGORIES:Seniors
END:VEVENT
BEGIN:VEVENT
DTSTART;TZID=America/Chicago:20251218T090000
DTEND;TZID=America/Chicago:20251218T100000
DTSTAMP:20260422T085016
CREATED:20251023T071139Z
LAST-MODIFIED:20260318T215728Z
UID:10002318-1766048400-1766052000@www.cityofloxley.com
SUMMARY:YMCA
DESCRIPTION:
URL:https://www.cityofloxley.com/event/ymca/2025-12-18/
LOCATION:AL
CATEGORIES:Seniors
END:VEVENT
BEGIN:VEVENT
DTSTART;TZID=America/Chicago:20251217T130000
DTEND;TZID=America/Chicago:20251217T130000
DTSTAMP:20260422T085016
CREATED:20251208T194540Z
LAST-MODIFIED:20251208T194540Z
UID:10002325-1765976400-1765976400@www.cityofloxley.com
SUMMARY:Christmas Party
DESCRIPTION:
URL:https://www.cityofloxley.com/event/christmas-party/
LOCATION:Loxley Civic Center\, 4198 Municipal Park Dr\,\, Loxley\, AL\, 36551\, United States
CATEGORIES:Seniors
END:VEVENT
BEGIN:VEVENT
DTSTART;TZID=America/Chicago:20251216T080000
DTEND;TZID=America/Chicago:20251216T090000
DTSTAMP:20260422T085016
CREATED:20251023T072851Z
LAST-MODIFIED:20260112T225215Z
UID:10002344-1765872000-1765875600@www.cityofloxley.com
SUMMARY:Breakfast
DESCRIPTION:Our buffet-style breakfast is served on Tuesdays at 8:00 AM. Our friends from the DAV will be joining us the first Tuesday of each month.
URL:https://www.cityofloxley.com/event/breakfast-2/2025-12-16/
LOCATION:Loxley Civic Center\, 4198 Municipal Park Dr\,\, Loxley\, AL\, 36551\, United States
CATEGORIES:Seniors
END:VEVENT
BEGIN:VEVENT
DTSTART;TZID=America/Chicago:20251211T120000
DTEND;TZID=America/Chicago:20251211T150000
DTSTAMP:20260422T085016
CREATED:20250721T160814Z
LAST-MODIFIED:20260318T215943Z
UID:10002321-1765454400-1765465200@www.cityofloxley.com
SUMMARY:Games
DESCRIPTION:A group gets together at the Community Center to play games on Thursdays from 12:00-3:00 PM.
URL:https://www.cityofloxley.com/event/games/2025-12-11/
LOCATION:Loxley Community Center\, 2131 E Relham Dr\, Loxley\, 36551\, United States
CATEGORIES:Seniors
END:VEVENT
BEGIN:VEVENT
DTSTART;TZID=America/Chicago:20251211T100000
DTEND;TZID=America/Chicago:20251211T110000
DTSTAMP:20260422T085016
CREATED:20251023T072926Z
LAST-MODIFIED:20260210T195824Z
UID:10002312-1765447200-1765450800@www.cityofloxley.com
SUMMARY:Exercise
DESCRIPTION:Mondays and Thursdays at 10:00 AM.
URL:https://www.cityofloxley.com/event/exercise-2/2025-12-11/
LOCATION:Loxley Civic Center\, 4198 Municipal Park Dr\,\, Loxley\, AL\, 36551\, United States
CATEGORIES:Seniors
END:VEVENT
BEGIN:VEVENT
DTSTART;TZID=America/Chicago:20251211T090000
DTEND;TZID=America/Chicago:20251211T100000
DTSTAMP:20260422T085016
CREATED:20251023T071139Z
LAST-MODIFIED:20260318T215728Z
UID:10002317-1765443600-1765447200@www.cityofloxley.com
SUMMARY:YMCA
DESCRIPTION:
URL:https://www.cityofloxley.com/event/ymca/2025-12-11/
LOCATION:AL
CATEGORIES:Seniors
END:VEVENT
BEGIN:VEVENT
DTSTART;TZID=America/Chicago:20251210T103000
DTEND;TZID=America/Chicago:20251210T123000
DTSTAMP:20260422T085016
CREATED:20251208T194506Z
LAST-MODIFIED:20251208T194506Z
UID:10002324-1765362600-1765369800@www.cityofloxley.com
SUMMARY:Lunch Trip - Ivey's Fine Dining
DESCRIPTION:
URL:https://www.cityofloxley.com/event/lunch-trip-iveys-fine-dining/
LOCATION:AL
CATEGORIES:Seniors
END:VEVENT
BEGIN:VEVENT
DTSTART;TZID=America/Chicago:20251209T080000
DTEND;TZID=America/Chicago:20251209T090000
DTSTAMP:20260422T085016
CREATED:20251023T072851Z
LAST-MODIFIED:20260112T225215Z
UID:10002343-1765267200-1765270800@www.cityofloxley.com
SUMMARY:Breakfast
DESCRIPTION:Our buffet-style breakfast is served on Tuesdays at 8:00 AM. Our friends from the DAV will be joining us the first Tuesday of each month.
URL:https://www.cityofloxley.com/event/breakfast-2/2025-12-09/
LOCATION:Loxley Civic Center\, 4198 Municipal Park Dr\,\, Loxley\, AL\, 36551\, United States
CATEGORIES:Seniors
END:VEVENT
BEGIN:VEVENT
DTSTART;TZID=America/Chicago:20251204T120000
DTEND;TZID=America/Chicago:20251204T150000
DTSTAMP:20260422T085016
CREATED:20250721T160814Z
LAST-MODIFIED:20260318T215943Z
UID:10002320-1764849600-1764860400@www.cityofloxley.com
SUMMARY:Games
DESCRIPTION:A group gets together at the Community Center to play games on Thursdays from 12:00-3:00 PM.
URL:https://www.cityofloxley.com/event/games/2025-12-04/
LOCATION:Loxley Community Center\, 2131 E Relham Dr\, Loxley\, 36551\, United States
CATEGORIES:Seniors
END:VEVENT
BEGIN:VEVENT
DTSTART;TZID=America/Chicago:20251204T100000
DTEND;TZID=America/Chicago:20251204T110000
DTSTAMP:20260422T085016
CREATED:20251023T072926Z
LAST-MODIFIED:20260210T195824Z
UID:10002310-1764842400-1764846000@www.cityofloxley.com
SUMMARY:Exercise
DESCRIPTION:Mondays and Thursdays at 10:00 AM.
URL:https://www.cityofloxley.com/event/exercise-2/2025-12-04/
LOCATION:Loxley Civic Center\, 4198 Municipal Park Dr\,\, Loxley\, AL\, 36551\, United States
CATEGORIES:Seniors
END:VEVENT
BEGIN:VEVENT
DTSTART;TZID=America/Chicago:20251204T090000
DTEND;TZID=America/Chicago:20251204T100000
DTSTAMP:20260422T085016
CREATED:20251023T071139Z
LAST-MODIFIED:20260318T215728Z
UID:10002316-1764838800-1764842400@www.cityofloxley.com
SUMMARY:YMCA
DESCRIPTION:
URL:https://www.cityofloxley.com/event/ymca/2025-12-04/
LOCATION:AL
CATEGORIES:Seniors
END:VEVENT
BEGIN:VEVENT
DTSTART;TZID=America/Chicago:20251203T130000
DTEND;TZID=America/Chicago:20251203T130000
DTSTAMP:20260422T085016
CREATED:20251208T194354Z
LAST-MODIFIED:20260112T225749Z
UID:10002323-1764766800-1764766800@www.cityofloxley.com
SUMMARY:Birthday Party
DESCRIPTION:
URL:https://www.cityofloxley.com/event/birthday-party-4/2025-12-03/
LOCATION:Loxley Civic Center\, 4198 Municipal Park Dr\,\, Loxley\, AL\, 36551\, United States
CATEGORIES:Seniors
END:VEVENT
BEGIN:VEVENT
DTSTART;TZID=America/Chicago:20251202T080000
DTEND;TZID=America/Chicago:20251202T090000
DTSTAMP:20260422T085016
CREATED:20251023T072851Z
LAST-MODIFIED:20260112T225215Z
UID:10002342-1764662400-1764666000@www.cityofloxley.com
SUMMARY:Breakfast
DESCRIPTION:Our buffet-style breakfast is served on Tuesdays at 8:00 AM. Our friends from the DAV will be joining us the first Tuesday of each month.
URL:https://www.cityofloxley.com/event/breakfast-2/2025-12-02/
LOCATION:Loxley Civic Center\, 4198 Municipal Park Dr\,\, Loxley\, AL\, 36551\, United States
CATEGORIES:Seniors
END:VEVENT
BEGIN:VEVENT
DTSTART;TZID=America/Chicago:20251127T120000
DTEND;TZID=America/Chicago:20251127T150000
DTSTAMP:20260422T085016
CREATED:20250721T160814Z
LAST-MODIFIED:20260318T215943Z
UID:10002319-1764244800-1764255600@www.cityofloxley.com
SUMMARY:Games
DESCRIPTION:A group gets together at the Community Center to play games on Thursdays from 12:00-3:00 PM.
URL:https://www.cityofloxley.com/event/games/2025-11-27/
LOCATION:Loxley Community Center\, 2131 E Relham Dr\, Loxley\, 36551\, United States
CATEGORIES:Seniors
END:VEVENT
BEGIN:VEVENT
DTSTART;TZID=America/Chicago:20251127T100000
DTEND;TZID=America/Chicago:20251127T110000
DTSTAMP:20260422T085016
CREATED:20251023T072926Z
LAST-MODIFIED:20260210T195824Z
UID:10002308-1764237600-1764241200@www.cityofloxley.com
SUMMARY:Exercise
DESCRIPTION:Mondays and Thursdays at 10:00 AM.
URL:https://www.cityofloxley.com/event/exercise-2/2025-11-27/
LOCATION:Loxley Civic Center\, 4198 Municipal Park Dr\,\, Loxley\, AL\, 36551\, United States
CATEGORIES:Seniors
END:VEVENT
BEGIN:VEVENT
DTSTART;TZID=America/Chicago:20251127T090000
DTEND;TZID=America/Chicago:20251127T100000
DTSTAMP:20260422T085016
CREATED:20251023T071139Z
LAST-MODIFIED:20260318T215728Z
UID:10002315-1764234000-1764237600@www.cityofloxley.com
SUMMARY:YMCA
DESCRIPTION:
URL:https://www.cityofloxley.com/event/ymca/2025-11-27/
LOCATION:AL
CATEGORIES:Seniors
END:VEVENT
END:VCALENDAR